BEGIN_USGS_DOQ_HEADER *
QUADRANGLE_NAME "GRANITE PASS" *
QUADRANT NE *
NORTH_LATITUDE 34 07 30.000 *
WEST_LONGITUDE -115 11 15.000 *
SOUTH_LATITUDE 34 03 45.000 *
EAST_LONGITUDE -115 07 30.000 *
PRODUCTION_DATE 1998 04 06 *
RASTER_ORDER LEFT_RIGHT/TOP_BOTTOM *
BAND_ORGANIZATION BIP *
BAND_CONTENT RED *
BAND_CONTENT GREEN *
BAND_CONTENT BLUE *
BITS_PER_PIXEL 8 *
SAMPLES_AND_LINES 6600 7680 *
HORIZONTAL_DATUM NAD83 *
HORIZONTAL_COORDINATE_SYSTEM UTM *
COORDINATE_ZONE 11 *
HORIZONTAL_UNITS METERS *
HORIZONTAL_RESOLUTION 1.000 *
SECONDARY_HORIZONTAL_DATUM NAD27 *
XY_ORIGIN 666750.000 3777930.000 *
SECONDARY_XY_ORIGIN 666828.774 3777735.287 *
NATION US *
STATE CA *
NW_QUAD_CORNER_XY 667145.290 3777499.308 *
NE_QUAD_CORNER_XY 672909.676 3777603.407 *
SE_QUAD_CORNER_XY 673036.871 3770672.035 *
SW_QUAD_CORNER_XY 667268.240 3770568.027 *
SECONDARY_NW_QUAD_XY 667149.067 3777304.491 *
SECONDARY_NE_QUAD_XY 672913.584 3777408.592 *
SECONDARY_SE_QUAD_XY 673040.775 3770477.420 *
SECONDARY_SW_QUAD_XY 667272.014 3770373.410 *
RMSE_XY 1.733 *
IMAGE_SOURCE "CIR FILM" *
SOURCE_IMAGE_ID "NAPP 9563 198" *
SOURCE_IMAGE_DATE 1996 06 15 *
SOURCE_DEM_DATE 1985 01 01 *
AGENCY "WESTERN MAPPING CENTER (WMC)" *
PRODUCER "ANALYTICAL SURVEYS INC." *
PRODUCTION_SYSTEM "ORBIT OR_RECTIFY V.5.2" *
STANDARD_VERSION 1996 12 *
METADATA_DATE 1998 04 06 *
DATA_FILE_SIZE 152083800 *
BYTE_COUNT 19800 * * * * * * * * * * * * * * * * * * * * * * * * * * * * * * * * * * * * * * * * * * * * * * * * * * * * * * * * * * * * * * * * * * * * * * * * * * * * * * * * * * * * * * * * * * * * * * * * * * * * * * * * * * * * * * * * * * * * * * * * * * * * * * * * * * * * * * * * * * * * * * * * * * * * * * * * * * * * * * * * * * * * * * * * * * * * * * * * * * * * * * * * * * * * * * * * * * * * * * * * * * *
END_USGS_HEADER *
