BEGIN_USGS_DOQ_HEADER *
QUADRANGLE_NAME "CADIZ VALLEY SE" *
QUADRANT NW *
NORTH_LATITUDE 34 07 30.000 *
WEST_LONGITUDE -115 22 30.000 *
SOUTH_LATITUDE 34 03 45.000 *
EAST_LONGITUDE -115 18 45.000 *
PRODUCTION_DATE 1998 04 04 *
RASTER_ORDER LEFT_RIGHT/TOP_BOTTOM *
BAND_ORGANIZATION BIP *
BAND_CONTENT RED *
BAND_CONTENT GREEN *
BAND_CONTENT BLUE *
BITS_PER_PIXEL 8 *
SAMPLES_AND_LINES 6570 7680 *
HORIZONTAL_DATUM NAD83 *
HORIZONTAL_COORDINATE_SYSTEM UTM *
COORDINATE_ZONE 11 *
HORIZONTAL_UNITS METERS *
HORIZONTAL_RESOLUTION 1.000 *
SECONDARY_HORIZONTAL_DATUM NAD27 *
XY_ORIGIN 649470.000 3777630.000 *
SECONDARY_XY_ORIGIN 649548.751 3777435.458 *
NATION US *
STATE CA *
NW_QUAD_CORNER_XY 649852.566 3777208.204 *
NE_QUAD_CORNER_XY 655616.737 3777301.707 *
SE_QUAD_CORNER_XY 655731.200 3770370.599 *
SW_QUAD_CORNER_XY 649962.786 3770277.178 *
SECONDARY_NW_QUAD_XY 649855.953 3777013.380 *
SECONDARY_NE_QUAD_XY 655620.254 3777106.885 *
SECONDARY_SE_QUAD_XY 655734.714 3770175.977 *
SECONDARY_SW_QUAD_XY 649966.169 3770082.554 *
RMSE_XY 2.198 *
IMAGE_SOURCE "CIR FILM" *
SOURCE_IMAGE_ID "NAPP 9567 37" *
SOURCE_IMAGE_DATE 1996 06 21 *
SOURCE_DEM_DATE 1985 01 01 *
AGENCY "WESTERN MAPPING CENTER (WMC)" *
PRODUCER "ANALYTICAL SURVEYS INC." *
PRODUCTION_SYSTEM "ORBIT OR_RECTIFY V.5.2" *
STANDARD_VERSION 1996 12 *
METADATA_DATE 1998 04 04 *
DATA_FILE_SIZE 151392510 *
BYTE_COUNT 19710 * * * * * * * * * * * * * * * * * * * * * * * * * * * * * * * * * * * * * * * * * * * * * * * * * * * * * * * * * * * * * * * * * * * * * * * * * * * * * * * * * * * * * * * * * * * * * * * * * * * * * * * * * * * * * * * * * * * * * * * * * * * * * * * * * * * * * * * * * * * * * * * * * * * * * * * * * * * * * * * * * * * * * * * * * * * * * * * * * * * * * * * * * * * * * * * * * * * * * * * * * *
END_USGS_HEADER *
