BEGIN_USGS_DOQ_HEADER *
QUADRANGLE_NAME "CADIZ VALLEY SE" *
QUADRANT SE *
NORTH_LATITUDE 34 03 45.000 *
WEST_LONGITUDE -115 18 45.000 *
SOUTH_LATITUDE 34 00 00.000 *
EAST_LONGITUDE -115 15 00.000 *
PRODUCTION_DATE 1998 04 04 *
RASTER_ORDER LEFT_RIGHT/TOP_BOTTOM *
BAND_ORGANIZATION BIP *
BAND_CONTENT RED *
BAND_CONTENT GREEN *
BAND_CONTENT BLUE *
BITS_PER_PIXEL 8 *
SAMPLES_AND_LINES 6570 7680 *
HORIZONTAL_DATUM NAD83 *
HORIZONTAL_COORDINATE_SYSTEM UTM *
COORDINATE_ZONE 11 *
HORIZONTAL_UNITS METERS *
HORIZONTAL_RESOLUTION 1.000 *
SECONDARY_HORIZONTAL_DATUM NAD27 *
XY_ORIGIN 655350.000 3770790.000 *
SECONDARY_XY_ORIGIN 655428.811 3770595.442 *
NATION US *
STATE CA *
NW_QUAD_CORNER_XY 655731.200 3770370.599 *
NE_QUAD_CORNER_XY 661499.684 3770467.549 *
SE_QUAD_CORNER_XY 661618.197 3763536.420 *
SW_QUAD_CORNER_XY 655845.477 3763439.555 *
SECONDARY_NW_QUAD_XY 655734.714 3770175.977 *
SECONDARY_NE_QUAD_XY 661503.328 3770272.929 *
SECONDARY_SE_QUAD_XY 661621.838 3763342.000 *
SECONDARY_SW_QUAD_XY 655848.987 3763245.134 *
RMSE_XY 1.288 *
IMAGE_SOURCE "CIR FILM" *
SOURCE_IMAGE_ID "NAPP 9567 30" *
SOURCE_IMAGE_DATE 1996 06 21 *
SOURCE_DEM_DATE 1985 01 01 *
AGENCY "WESTERN MAPPING CENTER (WMC)" *
PRODUCER "ANALYTICAL SURVEYS INC." *
PRODUCTION_SYSTEM "ORBIT OR_RECTIFY V.5.2" *
STANDARD_VERSION 1996 12 *
METADATA_DATE 1998 04 04 *
DATA_FILE_SIZE 151392510 *
BYTE_COUNT 19710 * * * * * * * * * * * * * * * * * * * * * * * * * * * * * * * * * * * * * * * * * * * * * * * * * * * * * * * * * * * * * * * * * * * * * * * * * * * * * * * * * * * * * * * * * * * * * * * * * * * * * * * * * * * * * * * * * * * * * * * * * * * * * * * * * * * * * * * * * * * * * * * * * * * * * * * * * * * * * * * * * * * * * * * * * * * * * * * * * * * * * * * * * * * * * * * * * * * * * * * * * *
END_USGS_HEADER *
