BEGIN_USGS_DOQ_HEADER *
QUADRANGLE_NAME "CADIZ VALLEY SE" *
QUADRANT SW *
NORTH_LATITUDE 34 03 45.000 *
WEST_LONGITUDE -115 22 30.000 *
SOUTH_LATITUDE 34 00 00.000 *
EAST_LONGITUDE -115 18 45.000 *
PRODUCTION_DATE 1998 04 04 *
RASTER_ORDER LEFT_RIGHT/TOP_BOTTOM *
BAND_ORGANIZATION BIP *
BAND_CONTENT RED *
BAND_CONTENT GREEN *
BAND_CONTENT BLUE *
BITS_PER_PIXEL 8 *
SAMPLES_AND_LINES 6600 7680 *
HORIZONTAL_DATUM NAD83 *
HORIZONTAL_COORDINATE_SYSTEM UTM *
COORDINATE_ZONE 11 *
HORIZONTAL_UNITS METERS *
HORIZONTAL_RESOLUTION 1.000 *
SECONDARY_HORIZONTAL_DATUM NAD27 *
XY_ORIGIN 649560.000 3770700.000 *
SECONDARY_XY_ORIGIN 649638.782 3770505.513 *
NATION US *
STATE CA *
NW_QUAD_CORNER_XY 649962.786 3770277.178 *
NE_QUAD_CORNER_XY 655731.200 3770370.599 *
SE_QUAD_CORNER_XY 655845.477 3763439.555 *
SW_QUAD_CORNER_XY 650072.827 3763346.217 *
SECONDARY_NW_QUAD_XY 649966.169 3770082.554 *
SECONDARY_NE_QUAD_XY 655734.714 3770175.977 *
SECONDARY_SE_QUAD_XY 655848.987 3763245.134 *
SECONDARY_SW_QUAD_XY 650076.207 3763151.793 *
RMSE_XY 2.478 *
IMAGE_SOURCE "CIR FILM" *
SOURCE_IMAGE_ID "NAPP 9567 39" *
SOURCE_IMAGE_DATE 1996 06 21 *
SOURCE_IMAGE_ID "NAPP 9567 41" *
SOURCE_IMAGE_DATE 1996 06 21 *
SOURCE_DEM_DATE 1985 01 01 *
AGENCY "WESTERN MAPPING CENTER (WMC)" *
PRODUCER "ANALYTICAL SURVEYS INC." *
PRODUCTION_SYSTEM "ORBIT OR_RECTIFY V.5.2" *
STANDARD_VERSION 1996 12 *
METADATA_DATE 1998 04 04 *
DATA_FILE_SIZE 152083800 *
BYTE_COUNT 19800 * * * * * * * * * * * * * * * * * * * * * * * * * * * * * * * * * * * * * * * * * * * * * * * * * * * * * * * * * * * * * * * * * * * * * * * * * * * * * * * * * * * * * * * * * * * * * * * * * * * * * * * * * * * * * * * * * * * * * * * * * * * * * * * * * * * * * * * * * * * * * * * * * * * * * * * * * * * * * * * * * * * * * * * * * * * * * * * * * * * * * * * * * * * * * * * * * * * * * * * * *
END_USGS_HEADER *
