BEGIN_USGS_DOQ_HEADER *
QUADRANGLE_NAME "CADIZ VALLEY SW" *
QUADRANT SE *
NORTH_LATITUDE 34 03 45.000 *
WEST_LONGITUDE -115 26 15.000 *
SOUTH_LATITUDE 34 00 00.000 *
EAST_LONGITUDE -115 22 30.000 *
PRODUCTION_DATE 1998 04 03 *
RASTER_ORDER LEFT_RIGHT/TOP_BOTTOM *
BAND_ORGANIZATION BIP *
BAND_CONTENT RED *
BAND_CONTENT GREEN *
BAND_CONTENT BLUE *
BITS_PER_PIXEL 8 *
SAMPLES_AND_LINES 6600 7650 *
HORIZONTAL_DATUM NAD83 *
HORIZONTAL_COORDINATE_SYSTEM UTM *
COORDINATE_ZONE 11 *
HORIZONTAL_UNITS METERS *
HORIZONTAL_RESOLUTION 1.000 *
SECONDARY_HORIZONTAL_DATUM NAD27 *
XY_ORIGIN 643800.000 3770580.000 *
SECONDARY_XY_ORIGIN 643878.752 3770385.584 *
NATION US *
STATE CA *
NW_QUAD_CORNER_XY 644194.438 3770187.285 *
NE_QUAD_CORNER_XY 649962.786 3770277.178 *
SE_QUAD_CORNER_XY 650072.827 3763346.217 *
SW_QUAD_CORNER_XY 644300.244 3763256.403 *
SECONDARY_NW_QUAD_XY 644197.692 3769992.659 *
SECONDARY_NE_QUAD_XY 649966.169 3770082.554 *
SECONDARY_SE_QUAD_XY 650076.207 3763151.793 *
SECONDARY_SW_QUAD_XY 644303.494 3763061.977 *
RMSE_XY 2.907 *
IMAGE_SOURCE "CIR FILM" *
SOURCE_IMAGE_ID "NAPP 9567 75" *
SOURCE_IMAGE_DATE 1996 06 21 *
SOURCE_IMAGE_ID "NAPP 9567 77" *
SOURCE_IMAGE_DATE 1996 06 21 *
SOURCE_IMAGE_ID "NAPP 9567 84" *
SOURCE_IMAGE_DATE 1996 06 21 *
SOURCE_DEM_DATE 1985 01 01 *
AGENCY "WESTERN MAPPING CENTER (WMC)" *
PRODUCER "ANALYTICAL SURVEYS INC." *
PRODUCTION_SYSTEM "ORBIT OR_RECTIFY V.5.2" *
STANDARD_VERSION 1996 12 *
METADATA_DATE 1998 04 06 *
DATA_FILE_SIZE 151489800 *
BYTE_COUNT 19800 * * * * * * * * * * * * * * * * * * * * * * * * * * * * * * * * * * * * * * * * * * * * * * * * * * * * * * * * * * * * * * * * * * * * * * * * * * * * * * * * * * * * * * * * * * * * * * * * * * * * * * * * * * * * * * * * * * * * * * * * * * * * * * * * * * * * * * * * * * * * * * * * * * * * * * * * * * * * * * * * * * * * * * * * * * * * * * * * * * * * * * * * * * * * * * * * * * * * * * *
END_USGS_HEADER *
