BEGIN_USGS_DOQ_HEADER *
QUADRANGLE_NAME "CADIZ VALLEY SW" *
QUADRANT SW *
NORTH_LATITUDE 34 03 45.000 *
WEST_LONGITUDE -115 30 00.000 *
SOUTH_LATITUDE 34 00 00.000 *
EAST_LONGITUDE -115 26 15.000 *
PRODUCTION_DATE 1998 04 03 *
RASTER_ORDER LEFT_RIGHT/TOP_BOTTOM *
BAND_ORGANIZATION BIP *
BAND_CONTENT RED *
BAND_CONTENT GREEN *
BAND_CONTENT BLUE *
BITS_PER_PIXEL 8 *
SAMPLES_AND_LINES 6570 7650 *
HORIZONTAL_DATUM NAD83 *
HORIZONTAL_COORDINATE_SYSTEM UTM *
COORDINATE_ZONE 11 *
HORIZONTAL_UNITS METERS *
HORIZONTAL_RESOLUTION 1.000 *
SECONDARY_HORIZONTAL_DATUM NAD27 *
XY_ORIGIN 638040.000 3770490.000 *
SECONDARY_XY_ORIGIN 638118.723 3770295.655 *
NATION US *
STATE CA *
NW_QUAD_CORNER_XY 638426.156 3770100.920 *
NE_QUAD_CORNER_XY 644194.438 3770187.285 *
SE_QUAD_CORNER_XY 644300.244 3763256.403 *
SW_QUAD_CORNER_XY 638527.725 3763170.114 *
SECONDARY_NW_QUAD_XY 638429.279 3769906.292 *
SECONDARY_NE_QUAD_XY 644197.692 3769992.659 *
SECONDARY_SE_QUAD_XY 644303.494 3763061.977 *
SECONDARY_SW_QUAD_XY 638530.846 3762975.686 *
RMSE_XY 1.740 *
IMAGE_SOURCE "CIR FILM" *
SOURCE_IMAGE_ID "NAPP 9567 84" *
SOURCE_IMAGE_DATE 1996 06 21 *
SOURCE_DEM_DATE 1985 01 01 *
AGENCY "WESTERN MAPPING CENTER (WMC)" *
PRODUCER "ANALYTICAL SURVEYS INC." *
PRODUCTION_SYSTEM "ORBIT OR_RECTIFY V.5.2" *
STANDARD_VERSION 1996 12 *
METADATA_DATE 1998 04 03 *
DATA_FILE_SIZE 150801210 *
BYTE_COUNT 19710 * * * * * * * * * * * * * * * * * * * * * * * * * * * * * * * * * * * * * * * * * * * * * * * * * * * * * * * * * * * * * * * * * * * * * * * * * * * * * * * * * * * * * * * * * * * * * * * * * * * * * * * * * * * * * * * * * * * * * * * * * * * * * * * * * * * * * * * * * * * * * * * * * * * * * * * * * * * * * * * * * * * * * * * * * * * * * * * * * * * * * * * * * * * * * * * * * * * * * * * * * *
END_USGS_HEADER *
