BEGIN_USGS_DOQ_HEADER *
QUADRANGLE_NAME "CLARKS PASS" *
QUADRANT NE *
NORTH_LATITUDE 34 07 30.000 *
WEST_LONGITUDE -115 33 45.000 *
SOUTH_LATITUDE 34 03 45.000 *
EAST_LONGITUDE -115 30 00.000 *
PRODUCTION_DATE 1998 03 31 *
RASTER_ORDER LEFT_RIGHT/TOP_BOTTOM *
BAND_ORGANIZATION BIP *
BAND_CONTENT RED *
BAND_CONTENT GREEN *
BAND_CONTENT BLUE *
BITS_PER_PIXEL 8 *
SAMPLES_AND_LINES 6570 7650 *
HORIZONTAL_DATUM NAD83 *
HORIZONTAL_COORDINATE_SYSTEM UTM *
COORDINATE_ZONE 11 *
HORIZONTAL_UNITS METERS *
HORIZONTAL_RESOLUTION 1.000 *
SECONDARY_HORIZONTAL_DATUM NAD27 *
XY_ORIGIN 632160.000 3777360.000 *
SECONDARY_XY_ORIGIN 632238.750 3777165.655 *
NATION US *
STATE CA *
NW_QUAD_CORNER_XY 632560.442 3776948.882 *
NE_QUAD_CORNER_XY 638324.421 3777031.792 *
SE_QUAD_CORNER_XY 638426.156 3770100.920 *
SW_QUAD_CORNER_XY 632657.935 3770018.083 *
SECONDARY_NW_QUAD_XY 632563.437 3776754.052 *
SECONDARY_NE_QUAD_XY 638327.547 3776836.964 *
SECONDARY_SE_QUAD_XY 638429.279 3769906.292 *
SECONDARY_SW_QUAD_XY 632660.927 3769823.452 *
RMSE_XY 1.387 *
IMAGE_SOURCE "CIR FILM" *
SOURCE_IMAGE_ID "NAPP 9567 115" *
SOURCE_IMAGE_DATE 1996 06 21 *
SOURCE_IMAGE_ID "NAPP 9567 113" *
SOURCE_IMAGE_DATE 1996 06 21 *
SOURCE_DEM_DATE 1985 01 01 *
AGENCY "WESTERN MAPPING CENTER (WMC)" *
PRODUCER "ANALYTICAL SURVEYS INC." *
PRODUCTION_SYSTEM "ORBIT OR_RECTIFY V.5.2" *
STANDARD_VERSION 1996 12 *
METADATA_DATE 1998 03 31 *
DATA_FILE_SIZE 150801210 *
BYTE_COUNT 19710 * * * * * * * * * * * * * * * * * * * * * * * * * * * * * * * * * * * * * * * * * * * * * * * * * * * * * * * * * * * * * * * * * * * * * * * * * * * * * * * * * * * * * * * * * * * * * * * * * * * * * * * * * * * * * * * * * * * * * * * * * * * * * * * * * * * * * * * * * * * * * * * * * * * * * * * * * * * * * * * * * * * * * * * * * * * * * * * * * * * * * * * * * * * * * * * * * * * * * * * *
END_USGS_HEADER *
