BEGIN_USGS_DOQ_HEADER *
QUADRANGLE_NAME "CLARKS PASS" 3.75 or 7.5-min. name*
QUADRANT NE quadrant indicator if cell size = 3.75-minutes*
WEST_LONGITUDE -115 33 45.000 signed deg min sec SDDD MM SS.SSS*
EAST_LONGITUDE -115 30 0.000 signed deg min sec SDDD MM SS.SSS*
NORTH_LATITUDE 34 7 30.000 signed deg min sec SDDD MM SS.SSS*
SOUTH_LATITUDE 34 3 45.000 signed deg min sec SDDD MM SS.SSS*
PRODUCTION_DATE 2004 3 15 yyyy mm dd*
RASTER_ORDER LEFT_RIGHT/TOP_BOTTOM video display order*
BAND_ORGANIZATION BIP single file or BSQ, or BIL or BIP*
BAND_CONTENT RED black&white or red green blue*
BAND_CONTENT GREEN black&white or red green blue*
BAND_CONTENT BLUE black&white or red green blue*
BITS_PER_PIXEL 8 radiometric resolution*
SAMPLES_AND_LINES 6544 7617 number of columns and rows*
HORIZONTAL_DATUM NAD83 primary horizontal datum*
HORIZONTAL_COORDINATE_SYSTEM UTM *
COORDINATE_ZONE 11 coordinate system zone number*
HORIZONTAL_UNITS METERS coordinate system units*
HORIZONTAL_RESOLUTION 1.00 pixel horiz. ground sample distance*
SECONDARY_HORIZONTAL_DATUM NAD27 secondary horizontal datum*
XY_ORIGIN 632184.000 3777333.000 coord. of upper left pixel pri. datum*
SECONDARY_XY_ORIGIN 632262.000 3777139.000 coord upper left pixel sec datum*
NATION US nation code*
STATE CA state fip code*
NW_QUAD_CORNER_XY 632560.442 3776948.882 XY coords. of pri. NW quad corner*
NE_QUAD_CORNER_XY 638324.421 3777031.792 XY coords. of pri. NE quad corner*
SE_QUAD_CORNER_XY 638426.156 3770100.920 XY coords. of pri. SE quad corner*
SW_QUAD_CORNER_XY 632657.935 3770018.083 XY coords. of pri. SW quad corner*
SECONDARY_NW_QUAD_XY 632563.437 3776754.052 XY coords. - sec. NW quad cor.*
SECONDARY_NE_QUAD_XY 638327.547 3776836.964 XY coords. - sec. NE quad cor.*
SECONDARY_SE_QUAD_XY 638429.279 3769906.292 XY coords. - sec. SE quad cor.*
SECONDARY_SW_QUAD_XY 632660.927 3769823.452 XY coords. - sec. SW quad cor.*
RMSE_XY 8.50 doq horiz. accuracy*
IMAGE_SOURCE "COLOR INFRA-RED FILM" b&w, cir, natural color, other*
SOURCE_IMAGE_ID "NAPP 12476 190" source image id*
SOURCE_IMAGE_DATE 2002 5 28 source image date as yyyy mm dd*
SOURCE_DEM_DATE 1983 1 1 source dem date yyyy mm dd*
AGENCY "WESTERN MAPPING CENTER (WMC)" oversight agency*
PRODUCER "WESTERN MAPPING CENTER (WMC)" *
PRODUCTION_SYSTEM "DV2.6.5 3/02 OV2.7 3/02" production system*
STANDARD_VERSION 1996 12 version of DOQ standard*
METADATA_DATE 2004 3 15 date created or changed, yyyy mm dd*
DATA_FILE_SIZE 149556576 data set size in bytes*
BYTE_COUNT 19632 header byte count* * * * * * * * * * * * * * * * * * * * * * * * * * * * * * * * * * * * * * * * * * * * * * * * * * * * * * * * * * * * * * * * * * * * * * * * * * * * * * * * * * * * * * * * * * * * * * * * * * * * * * * * * * * * * * * * * * * * * * * * * * * * * * * * * * * * * * * * * * * * * * * * * * * * * * * * * * * * * * * * * * * * * * * * * * * * * * * * * * * * * * * * * * * * * * * * * * * * * * * * *
END_USGS_HEADER *
