BEGIN_USGS_DOQ_HEADER *
QUADRANGLE_NAME "CLARKS PASS" *
QUADRANT SW *
NORTH_LATITUDE 34 03 45.000 *
WEST_LONGITUDE -115 37 30.000 *
SOUTH_LATITUDE 34 00 00.000 *
EAST_LONGITUDE -115 33 45.000 *
PRODUCTION_DATE 1998 03 31 *
RASTER_ORDER LEFT_RIGHT/TOP_BOTTOM *
BAND_ORGANIZATION BIP *
BAND_CONTENT RED *
BAND_CONTENT GREEN *
BAND_CONTENT BLUE *
BITS_PER_PIXEL 8 *
SAMPLES_AND_LINES 6570 7650 *
HORIZONTAL_DATUM NAD83 *
HORIZONTAL_COORDINATE_SYSTEM UTM *
COORDINATE_ZONE 11 *
HORIZONTAL_UNITS METERS *
HORIZONTAL_RESOLUTION 1.000 *
SECONDARY_HORIZONTAL_DATUM NAD27 *
XY_ORIGIN 626490.000 3770340.000 *
SECONDARY_XY_ORIGIN 626568.776 3770145.752 *
NATION US *
STATE CA *
NW_QUAD_CORNER_XY 626889.773 3769938.772 *
NE_QUAD_CORNER_XY 632657.935 3770018.083 *
SE_QUAD_CORNER_XY 632755.270 3763087.350 *
SW_QUAD_CORNER_XY 626982.873 3763008.109 *
SECONDARY_NW_QUAD_XY 626892.636 3769744.141 *
SECONDARY_NE_QUAD_XY 632660.927 3769823.452 *
SECONDARY_SE_QUAD_XY 632758.260 3762892.920 *
SECONDARY_SW_QUAD_XY 626985.733 3762813.678 *
RMSE_XY 3.055 *
IMAGE_SOURCE "CIR FILM" *
SOURCE_IMAGE_ID "NAPP 9567 122" *
SOURCE_IMAGE_DATE 1996 06 21 *
SOURCE_DEM_DATE 1985 01 01 *
AGENCY "WESTERN MAPPING CENTER (WMC)" *
PRODUCER "ANALYTICAL SURVEYS INC." *
PRODUCTION_SYSTEM "ORBIT OR_RECTIFY V.5.2" *
STANDARD_VERSION 1996 12 *
METADATA_DATE 1998 03 31 *
DATA_FILE_SIZE 150801210 *
BYTE_COUNT 19710 * * * * * * * * * * * * * * * * * * * * * * * * * * * * * * * * * * * * * * * * * * * * * * * * * * * * * * * * * * * * * * * * * * * * * * * * * * * * * * * * * * * * * * * * * * * * * * * * * * * * * * * * * * * * * * * * * * * * * * * * * * * * * * * * * * * * * * * * * * * * * * * * * * * * * * * * * * * * * * * * * * * * * * * * * * * * * * * * * * * * * * * * * * * * * * * * * * * * * * * * * *
END_USGS_HEADER *
