BEGIN_USGS_DOQ_HEADER *
QUADRANGLE_NAME "NEW DALE" 3.75 or 7.5-min. name*
QUADRANT NW quadrant indicator if cell size = 3.75-minutes*
WEST_LONGITUDE -115 45 0.000 signed deg min sec SDDD MM SS.SSS*
EAST_LONGITUDE -115 41 15.000 signed deg min sec SDDD MM SS.SSS*
NORTH_LATITUDE 34 7 30.000 signed deg min sec SDDD MM SS.SSS*
SOUTH_LATITUDE 34 3 45.000 signed deg min sec SDDD MM SS.SSS*
PRODUCTION_DATE 2004 3 12 yyyy mm dd*
RASTER_ORDER LEFT_RIGHT/TOP_BOTTOM video display order*
BAND_ORGANIZATION BIP single file or BSQ, or BIL or BIP*
BAND_CONTENT RED black&white or red green blue*
BAND_CONTENT GREEN black&white or red green blue*
BAND_CONTENT BLUE black&white or red green blue*
BITS_PER_PIXEL 8 radiometric resolution*
SAMPLES_AND_LINES 6532 7607 number of columns and rows*
HORIZONTAL_DATUM NAD83 primary horizontal datum*
HORIZONTAL_COORDINATE_SYSTEM UTM *
COORDINATE_ZONE 11 coordinate system zone number*
HORIZONTAL_UNITS METERS coordinate system units*
HORIZONTAL_RESOLUTION 1.00 pixel horiz. ground sample distance*
SECONDARY_HORIZONTAL_DATUM NAD27 secondary horizontal datum*
XY_ORIGIN 614892.000 3777095.000 coord. of upper left pixel pri. datum*
SECONDARY_XY_ORIGIN 614970.000 3776901.000 coord upper left pixel sec datum*
NATION US nation code*
STATE CA state fip code*
NW_QUAD_CORNER_XY 615268.847 3776721.333 XY coords. of pri. NW quad corner*
NE_QUAD_CORNER_XY 621032.657 3776793.653 XY coords. of pri. NE quad corner*
SE_QUAD_CORNER_XY 621121.668 3769862.989 XY coords. of pri. SE quad corner*
SW_QUAD_CORNER_XY 615353.617 3769790.733 XY coords. of pri. SW quad corner*
SECONDARY_NW_QUAD_XY 615271.452 3776526.498 XY coords. - sec. NW quad cor.*
SECONDARY_NE_QUAD_XY 621035.392 3776598.819 XY coords. - sec. NE quad cor.*
SECONDARY_SE_QUAD_XY 621124.400 3769668.356 XY coords. - sec. SE quad cor.*
SECONDARY_SW_QUAD_XY 615356.219 3769596.098 XY coords. - sec. SW quad cor.*
RMSE_XY 1.90 doq horiz. accuracy*
IMAGE_SOURCE "COLOR INFRA-RED FILM" b&w, cir, natural color, other*
SOURCE_IMAGE_ID "NAPP 12476 018" source image id*
SOURCE_IMAGE_DATE 2002 5 28 source image date as yyyy mm dd*
SOURCE_DEM_DATE 1983 1 1 source dem date yyyy mm dd*
AGENCY "WESTERN MAPPING CENTER (WMC)" oversight agency*
PRODUCER "WESTERN MAPPING CENTER (WMC)" *
PRODUCTION_SYSTEM "DV2.6.5 3/02 OV2.7 3/02" production system*
STANDARD_VERSION 1996 12 version of DOQ standard*
METADATA_DATE 2004 3 12 date created or changed, yyyy mm dd*
DATA_FILE_SIZE 149086368 data set size in bytes*
BYTE_COUNT 19596 header byte count* * * * * * * * * * * * * * * * * * * * * * * * * * * * * * * * * * * * * * * * * * * * * * * * * * * * * * * * * * * * * * * * * * * * * * * * * * * * * * * * * * * * * * * * * * * * * * * * * * * * * * * * * * * * * * * * * * * * * * * * * * * * * * * * * * * * * * * * * * * * * * * * * * * * * * * * * * * * * * * * * * * * * * * * * * * * * * * * * * * * * * * * * * * * * * * * * * * * * * * *
END_USGS_HEADER *
