BEGIN_USGS_DOQ_HEADER *
QUADRANGLE_NAME "NEW DALE" *
QUADRANT SE *
NORTH_LATITUDE 34 03 45.000 *
WEST_LONGITUDE -115 41 15.000 *
SOUTH_LATITUDE 34 00 00.000 *
EAST_LONGITUDE -115 37 30.000 *
PRODUCTION_DATE 1998 03 30 *
RASTER_ORDER LEFT_RIGHT/TOP_BOTTOM *
BAND_ORGANIZATION BIP *
BAND_CONTENT RED *
BAND_CONTENT GREEN *
BAND_CONTENT BLUE *
BITS_PER_PIXEL 8 *
SAMPLES_AND_LINES 6570 7620 *
HORIZONTAL_DATUM NAD83 *
HORIZONTAL_COORDINATE_SYSTEM UTM *
COORDINATE_ZONE 11 *
HORIZONTAL_UNITS METERS *
HORIZONTAL_RESOLUTION 1.000 *
SECONDARY_HORIZONTAL_DATUM NAD27 *
XY_ORIGIN 620730.000 3770250.000 *
SECONDARY_XY_ORIGIN 620808.801 3770055.799 *
NATION US *
STATE CA *
NW_QUAD_CORNER_XY 621121.668 3769862.989 *
NE_QUAD_CORNER_XY 626889.773 3769938.772 *
SE_QUAD_CORNER_XY 626982.873 3763008.109 *
SW_QUAD_CORNER_XY 621210.534 3762932.393 *
SECONDARY_NW_QUAD_XY 621124.400 3769668.356 *
SECONDARY_NE_QUAD_XY 626892.636 3769744.141 *
SECONDARY_SE_QUAD_XY 626985.733 3762813.678 *
SECONDARY_SW_QUAD_XY 621213.264 3762737.960 *
RMSE_XY 2.299 *
IMAGE_SOURCE "CIR FILM" *
SOURCE_IMAGE_ID "NAPP 9567 151" *
SOURCE_IMAGE_DATE 1996 06 21 *
SOURCE_IMAGE_ID "NAPP 9567 153" *
SOURCE_IMAGE_DATE 1996 06 21 *
SOURCE_DEM_DATE 1985 01 01 *
AGENCY "WESTERN MAPPING CENTER (WMC)" *
PRODUCER "ANALYTICAL SURVEYS INC." *
PRODUCTION_SYSTEM "ORBIT OR_RECTIFY V.5.2" *
STANDARD_VERSION 1996 12 *
METADATA_DATE 1998 03 30 *
DATA_FILE_SIZE 150209910 *
BYTE_COUNT 19710 * * * * * * * * * * * * * * * * * * * * * * * * * * * * * * * * * * * * * * * * * * * * * * * * * * * * * * * * * * * * * * * * * * * * * * * * * * * * * * * * * * * * * * * * * * * * * * * * * * * * * * * * * * * * * * * * * * * * * * * * * * * * * * * * * * * * * * * * * * * * * * * * * * * * * * * * * * * * * * * * * * * * * * * * * * * * * * * * * * * * * * * * * * * * * * * * * * * * * * * *
END_USGS_HEADER *
