BEGIN_USGS_DOQ_HEADER *
QUADRANGLE_NAME "NEW DALE" *
QUADRANT SW *
NORTH_LATITUDE 34 03 45.000 *
WEST_LONGITUDE -115 45 00.000 *
SOUTH_LATITUDE 34 00 00.000 *
EAST_LONGITUDE -115 41 15.000 *
PRODUCTION_DATE 1998 03 30 *
RASTER_ORDER LEFT_RIGHT/TOP_BOTTOM *
BAND_ORGANIZATION BIP *
BAND_CONTENT RED *
BAND_CONTENT GREEN *
BAND_CONTENT BLUE *
BITS_PER_PIXEL 8 *
SAMPLES_AND_LINES 6570 7650 *
HORIZONTAL_DATUM NAD83 *
HORIZONTAL_COORDINATE_SYSTEM UTM *
COORDINATE_ZONE 11 *
HORIZONTAL_UNITS METERS *
HORIZONTAL_RESOLUTION 1.000 *
SECONDARY_HORIZONTAL_DATUM NAD27 *
XY_ORIGIN 614970.000 3770190.000 *
SECONDARY_XY_ORIGIN 615048.825 3769995.847 *
NATION US *
STATE CA *
NW_QUAD_CORNER_XY 615353.617 3769790.733 *
NE_QUAD_CORNER_XY 621121.668 3769862.989 *
SE_QUAD_CORNER_XY 621210.534 3762932.393 *
SW_QUAD_CORNER_XY 615438.249 3762860.200 *
SECONDARY_NW_QUAD_XY 615356.219 3769596.098 *
SECONDARY_NE_QUAD_XY 621124.400 3769668.356 *
SECONDARY_SE_QUAD_XY 621213.264 3762737.960 *
SECONDARY_SW_QUAD_XY 615440.849 3762665.765 *
RMSE_XY 1.730 *
IMAGE_SOURCE "CIR FILM" *
SOURCE_IMAGE_ID "NAPP 9567 160" *
SOURCE_IMAGE_DATE 1996 06 21 *
SOURCE_IMAGE_ID "NAPP 9567 158" *
SOURCE_IMAGE_DATE 1996 06 21 *
SOURCE_DEM_DATE 1985 01 01 *
AGENCY "WESTERN MAPPING CENTER (WMC)" *
PRODUCER "ANALYTICAL SURVEYS INC." *
PRODUCTION_SYSTEM "ORBIT OR_RECTIFY V.5.2" *
STANDARD_VERSION 1996 12 *
METADATA_DATE 1998 03 31 *
DATA_FILE_SIZE 150801210 *
BYTE_COUNT 19710 * * * * * * * * * * * * * * * * * * * * * * * * * * * * * * * * * * * * * * * * * * * * * * * * * * * * * * * * * * * * * * * * * * * * * * * * * * * * * * * * * * * * * * * * * * * * * * * * * * * * * * * * * * * * * * * * * * * * * * * * * * * * * * * * * * * * * * * * * * * * * * * * * * * * * * * * * * * * * * * * * * * * * * * * * * * * * * * * * * * * * * * * * * * * * * * * * * * * * * * *
END_USGS_HEADER *
