BEGIN_USGS_DOQ_HEADER *
QUADRANGLE_NAME "HUMBUG MOUNTAIN" *
QUADRANT SE *
NORTH_LATITUDE 34 03 45.000 *
WEST_LONGITUDE -115 48 45.000 *
SOUTH_LATITUDE 34 00 00.000 *
EAST_LONGITUDE -115 45 00.000 *
PRODUCTION_DATE 1998 03 30 *
RASTER_ORDER LEFT_RIGHT/TOP_BOTTOM *
BAND_ORGANIZATION BIP *
BAND_CONTENT RED *
BAND_CONTENT GREEN *
BAND_CONTENT BLUE *
BITS_PER_PIXEL 8 *
SAMPLES_AND_LINES 6570 7620 *
HORIZONTAL_DATUM NAD83 *
HORIZONTAL_COORDINATE_SYSTEM UTM *
COORDINATE_ZONE 11 *
HORIZONTAL_UNITS METERS *
HORIZONTAL_RESOLUTION 1.000 *
SECONDARY_HORIZONTAL_DATUM NAD27 *
XY_ORIGIN 609180.000 3770100.000 *
SECONDARY_XY_ORIGIN 609258.873 3769905.818 *
NATION US *
STATE CA *
NW_QUAD_CORNER_XY 609585.618 3769722.003 *
NE_QUAD_CORNER_XY 615353.617 3769790.733 *
SE_QUAD_CORNER_XY 615438.249 3762860.200 *
SW_QUAD_CORNER_XY 609666.017 3762791.531 *
SECONDARY_NW_QUAD_XY 609588.090 3769527.366 *
SECONDARY_NE_QUAD_XY 615356.219 3769596.098 *
SECONDARY_SE_QUAD_XY 615440.849 3762665.765 *
SECONDARY_SW_QUAD_XY 609668.486 3762597.094 *
RMSE_XY 2.573 *
IMAGE_SOURCE "CIR FILM" *
SOURCE_IMAGE_ID "NAPP 9567 189" *
SOURCE_IMAGE_DATE 1996 06 21 *
SOURCE_DEM_DATE 1985 01 01 *
AGENCY "WESTERN MAPPING CENTER (WMC)" *
PRODUCER "ANALYTICAL SURVEYS INC." *
PRODUCTION_SYSTEM "ORBIT OR_RECTIFY V.5.2" *
STANDARD_VERSION 1996 12 *
METADATA_DATE 1998 03 30 *
DATA_FILE_SIZE 150209910 *
BYTE_COUNT 19710 * * * * * * * * * * * * * * * * * * * * * * * * * * * * * * * * * * * * * * * * * * * * * * * * * * * * * * * * * * * * * * * * * * * * * * * * * * * * * * * * * * * * * * * * * * * * * * * * * * * * * * * * * * * * * * * * * * * * * * * * * * * * * * * * * * * * * * * * * * * * * * * * * * * * * * * * * * * * * * * * * * * * * * * * * * * * * * * * * * * * * * * * * * * * * * * * * * * * * * * * * *
END_USGS_HEADER *
