BEGIN_USGS_DOQ_HEADER *
QUADRANGLE_NAME "TWENTYNINE PALMS MOUNTAIN" *
QUADRANT NW *
NORTH_LATITUDE 34 07 30.000 *
WEST_LONGITUDE -116 00 00.000 *
SOUTH_LATITUDE 34 03 45.000 *
EAST_LONGITUDE -115 56 15.000 *
PRODUCTION_DATE 1998 03 26 *
RASTER_ORDER LEFT_RIGHT/TOP_BOTTOM *
BAND_ORGANIZATION BIP *
BAND_CONTENT RED *
BAND_CONTENT GREEN *
BAND_CONTENT BLUE *
BITS_PER_PIXEL 8 *
SAMPLES_AND_LINES 6540 7620 *
HORIZONTAL_DATUM NAD83 *
HORIZONTAL_COORDINATE_SYSTEM UTM *
COORDINATE_ZONE 11 *
HORIZONTAL_UNITS METERS *
HORIZONTAL_RESOLUTION 1.000 *
SECONDARY_HORIZONTAL_DATUM NAD27 *
XY_ORIGIN 591810.000 3776850.000 *
SECONDARY_XY_ORIGIN 591888.972 3776655.680 *
NATION US *
STATE CA *
NW_QUAD_CORNER_XY 592214.094 3776467.346 *
NE_QUAD_CORNER_XY 597977.714 3776525.549 *
SE_QUAD_CORNER_XY 598049.764 3769595.121 *
SW_QUAD_CORNER_XY 592281.904 3769536.969 *
SECONDARY_NW_QUAD_XY 592216.178 3776272.505 *
SECONDARY_NE_QUAD_XY 597979.928 3776330.710 *
SECONDARY_SE_QUAD_XY 598051.976 3769400.481 *
SECONDARY_SW_QUAD_XY 592283.985 3769342.328 *
RMSE_XY 1.769 *
IMAGE_SOURCE "CIR FILM" *
SOURCE_IMAGE_ID "NAPP 9568 22" *
SOURCE_IMAGE_DATE 1996 06 21 *
SOURCE_DEM_DATE 1985 01 01 *
AGENCY "WESTERN MAPPING CENTER (WMC)" *
PRODUCER "ANALYTICAL SURVEYS INC." *
PRODUCTION_SYSTEM "ORBIT OR_RECTIFY V.5.2" *
STANDARD_VERSION 1996 12 *
METADATA_DATE 1998 03 27 *
DATA_FILE_SIZE 149524020 *
BYTE_COUNT 19620 * * * * * * * * * * * * * * * * * * * * * * * * * * * * * * * * * * * * * * * * * * * * * * * * * * * * * * * * * * * * * * * * * * * * * * * * * * * * * * * * * * * * * * * * * * * * * * * * * * * * * * * * * * * * * * * * * * * * * * * * * * * * * * * * * * * * * * * * * * * * * * * * * * * * * * * * * * * * * * * * * * * * * * * * * * * * * * * * * * * * * * * * * * * * * * * * * * * * * * * * *
END_USGS_HEADER *
