BEGIN_USGS_DOQ_HEADER *
QUADRANGLE_NAME "DANBY LAKE" *
QUADRANT SE *
NORTH_LATITUDE 34 11 15.000 *
WEST_LONGITUDE -115 03 45.000 *
SOUTH_LATITUDE 34 07 30.000 *
EAST_LONGITUDE -115 00 00.000 *
PRODUCTION_DATE 1998 05 28 *
RASTER_ORDER LEFT_RIGHT/TOP_BOTTOM *
BAND_ORGANIZATION "SINGLE FILE" *
BAND_CONTENT BLACK&WHITE *
BITS_PER_PIXEL 8 *
SAMPLES_AND_LINES 6600 7680 *
HORIZONTAL_DATUM NAD83 *
HORIZONTAL_COORDINATE_SYSTEM UTM *
COORDINATE_ZONE 11 *
HORIZONTAL_UNITS METERS *
HORIZONTAL_RESOLUTION 1.000 *
SECONDARY_HORIZONTAL_DATUM NAD27 *
XY_ORIGIN 678150.000 3785070.000 *
SECONDARY_XY_ORIGIN 678228.702 3784875.171 *
NATION US *
STATE CA *
NW_QUAD_CORNER_XY 678542.488 3784642.568 *
NE_QUAD_CORNER_XY 684302.778 3784753.830 *
SE_QUAD_CORNER_XY 684438.682 3777822.204 *
SW_QUAD_CORNER_XY 678674.140 3777711.039 *
SECONDARY_NW_QUAD_XY 678546.530 3784447.557 *
SECONDARY_NE_QUAD_XY 684306.951 3784558.821 *
SECONDARY_SE_QUAD_XY 684442.851 3777627.394 *
SECONDARY_SW_QUAD_XY 678678.178 3777516.227 *
RMSE_XY 1.088 *
IMAGE_SOURCE "BLACK AND WHITE FILM" *
SOURCE_IMAGE_ID "NAPP 6823 6" *
SOURCE_IMAGE_DATE 1995 09 28 *
SOURCE_DEM_DATE 1983 01 01 *
AGENCY "WESTERN MAPPING CENTER (WMC)" *
PRODUCER "ANALYTICAL SURVEYS INC." *
PRODUCTION_SYSTEM "ORBIT OR_RECTIFY V.5.2" *
STANDARD_VERSION 1996 12 *
METADATA_DATE 1998 05 28 *
DATA_FILE_SIZE 50694600 *
BYTE_COUNT 6600 * * * * * * * * * * * * * * * * * * * * * * * * * * * * * * * * * * * * * * * *
END_USGS_HEADER *
