BEGIN_USGS_DOQ_HEADER *
QUADRANGLE_NAME "IRON MOUNTAINS" *
QUADRANT NE *
NORTH_LATITUDE 34 15 00.000 *
WEST_LONGITUDE -115 11 15.000 *
SOUTH_LATITUDE 34 11 15.000 *
EAST_LONGITUDE -115 07 30.000 *
PRODUCTION_DATE 1998 05 28 *
RASTER_ORDER LEFT_RIGHT/TOP_BOTTOM *
BAND_ORGANIZATION "SINGLE FILE" *
BAND_CONTENT BLACK&WHITE *
BITS_PER_PIXEL 8 *
SAMPLES_AND_LINES 6600 7680 *
HORIZONTAL_DATUM NAD83 *
HORIZONTAL_COORDINATE_SYSTEM UTM *
COORDINATE_ZONE 11 *
HORIZONTAL_UNITS METERS *
HORIZONTAL_RESOLUTION 1.000 *
SECONDARY_HORIZONTAL_DATUM NAD27 *
XY_ORIGIN 666510.000 3791790.000 *
SECONDARY_XY_ORIGIN 666588.678 3791595.145 *
NATION US *
STATE CA *
NW_QUAD_CORNER_XY 666898.792 3791362.061 *
NE_QUAD_CORNER_XY 672654.670 3791466.341 *
SE_QUAD_CORNER_XY 672782.276 3784534.842 *
SW_QUAD_CORNER_XY 667022.141 3784430.653 *
SECONDARY_NW_QUAD_XY 666902.577 3791166.847 *
SECONDARY_NE_QUAD_XY 672658.585 3791271.129 *
SECONDARY_SE_QUAD_XY 672786.187 3784339.829 *
SECONDARY_SW_QUAD_XY 667025.922 3784235.637 *
RMSE_XY 1.439 *
IMAGE_SOURCE "BLACK AND WHITE FILM" *
SOURCE_IMAGE_ID "NAPP 6822 244" *
SOURCE_IMAGE_DATE 1995 10 02 *
SOURCE_DEM_DATE 1983 01 01 *
AGENCY "WESTERN MAPPING CENTER (WMC)" *
PRODUCER "ANALYTICAL SURVEYS INC." *
PRODUCTION_SYSTEM "ORBIT OR_RECTIFY V.5.2" *
STANDARD_VERSION 1996 12 *
METADATA_DATE 1998 05 28 *
DATA_FILE_SIZE 50694600 *
BYTE_COUNT 6600 * * * * * * * * * * * * * * * * * * * * * * * * * * * * * * * * * * * * * * * *
END_USGS_HEADER *
