BEGIN_USGS_DOQ_HEADER *
QUADRANGLE_NAME "IRON MOUNTAINS" *
QUADRANT SE *
NORTH_LATITUDE 34 11 15.000 *
WEST_LONGITUDE -115 11 15.000 *
SOUTH_LATITUDE 34 07 30.000 *
EAST_LONGITUDE -115 07 30.000 *
PRODUCTION_DATE 1998 05 28 *
RASTER_ORDER LEFT_RIGHT/TOP_BOTTOM *
BAND_ORGANIZATION "SINGLE FILE" *
BAND_CONTENT BLACK&WHITE *
BITS_PER_PIXEL 8 *
SAMPLES_AND_LINES 6600 7680 *
HORIZONTAL_DATUM NAD83 *
HORIZONTAL_COORDINATE_SYSTEM UTM *
COORDINATE_ZONE 11 *
HORIZONTAL_UNITS METERS *
HORIZONTAL_RESOLUTION 1.000 *
SECONDARY_HORIZONTAL_DATUM NAD27 *
XY_ORIGIN 666630.000 3784860.000 *
SECONDARY_XY_ORIGIN 666708.726 3784665.215 *
NATION US *
STATE CA *
NW_QUAD_CORNER_XY 667022.141 3784430.653 *
NE_QUAD_CORNER_XY 672782.276 3784534.842 *
SE_QUAD_CORNER_XY 672909.676 3777603.407 *
SW_QUAD_CORNER_XY 667145.290 3777499.308 *
SECONDARY_NW_QUAD_XY 667025.922 3784235.637 *
SECONDARY_NE_QUAD_XY 672786.187 3784339.829 *
SECONDARY_SE_QUAD_XY 672913.584 3777408.592 *
SECONDARY_SW_QUAD_XY 667149.067 3777304.491 *
RMSE_XY 3.519 *
IMAGE_SOURCE "BLACK AND WHITE FILM" *
SOURCE_IMAGE_ID "NAPP 6822 242" *
SOURCE_IMAGE_DATE 1995 10 02 *
SOURCE_IMAGE_ID "NAPP 6823 80" *
SOURCE_IMAGE_DATE 1995 09 28 *
SOURCE_IMAGE_ID "NAPP 6822 241" *
SOURCE_IMAGE_DATE 1995 10 02 *
SOURCE_DEM_DATE 1983 01 01 *
AGENCY "WESTERN MAPPING CENTER (WMC)" *
PRODUCER "ANALYTICAL SURVEYS INC." *
PRODUCTION_SYSTEM "ORBIT OR_RECTIFY V.5.2" *
STANDARD_VERSION 1996 12 *
METADATA_DATE 1998 05 28 *
DATA_FILE_SIZE 50694600 *
BYTE_COUNT 6600 * * * * * * * * * * * * * * * * * * * * * * * * * * * * * * * * * * * *
END_USGS_HEADER *
