BEGIN_USGS_DOQ_HEADER *
QUADRANGLE_NAME "IRON MOUNTAINS" *
QUADRANT SW *
NORTH_LATITUDE 34 11 15.000 *
WEST_LONGITUDE -115 15 00.000 *
SOUTH_LATITUDE 34 07 30.000 *
EAST_LONGITUDE -115 11 15.000 *
PRODUCTION_DATE 1998 05 28 *
RASTER_ORDER LEFT_RIGHT/TOP_BOTTOM *
BAND_ORGANIZATION "SINGLE FILE" *
BAND_CONTENT BLACK&WHITE *
BITS_PER_PIXEL 8 *
SAMPLES_AND_LINES 6600 7650 *
HORIZONTAL_DATUM NAD83 *
HORIZONTAL_COORDINATE_SYSTEM UTM *
COORDINATE_ZONE 11 *
HORIZONTAL_UNITS METERS *
HORIZONTAL_RESOLUTION 1.000 *
SECONDARY_HORIZONTAL_DATUM NAD27 *
XY_ORIGIN 660870.000 3784740.000 *
SECONDARY_XY_ORIGIN 660948.739 3784545.238 *
NATION US *
STATE CA *
NW_QUAD_CORNER_XY 661262.079 3784329.999 *
NE_QUAD_CORNER_XY 667022.141 3784430.653 *
SE_QUAD_CORNER_XY 667145.290 3777499.308 *
SW_QUAD_CORNER_XY 661380.978 3777398.742 *
SECONDARY_NW_QUAD_XY 661265.730 3784134.980 *
SECONDARY_NE_QUAD_XY 667025.922 3784235.637 *
SECONDARY_SE_QUAD_XY 667149.067 3777304.491 *
SECONDARY_SW_QUAD_XY 661384.625 3777203.922 *
RMSE_XY 2.057 *
IMAGE_SOURCE "BLACK AND WHITE FILM" *
SOURCE_IMAGE_ID "NAPP 6823 80" *
SOURCE_IMAGE_DATE 1995 09 28 *
SOURCE_IMAGE_ID "NAPP 6823 82" *
SOURCE_IMAGE_DATE 1995 09 28 *
SOURCE_DEM_DATE 1983 01 01 *
AGENCY "WESTERN MAPPING CENTER (WMC)" *
PRODUCER "ANALYTICAL SURVEYS INC." *
PRODUCTION_SYSTEM "ORBIT OR_RECTIFY V.5.2" *
STANDARD_VERSION 1996 12 *
METADATA_DATE 1998 05 28 *
DATA_FILE_SIZE 50496600 *
BYTE_COUNT 6600 * * * * * * * * * * * * * * * * * * * * * * * * * * * * * * * * * * * * * *
END_USGS_HEADER *
