BEGIN_USGS_DOQ_HEADER *
QUADRANGLE_NAME "CADIZ VALLEY NE" *
QUADRANT NE *
NORTH_LATITUDE 34 15 00.000 *
WEST_LONGITUDE -115 18 45.000 *
SOUTH_LATITUDE 34 11 15.000 *
EAST_LONGITUDE -115 15 00.000 *
PRODUCTION_DATE 1998 05 28 *
RASTER_ORDER LEFT_RIGHT/TOP_BOTTOM *
BAND_ORGANIZATION "SINGLE FILE" *
BAND_CONTENT BLACK&WHITE *
BITS_PER_PIXEL 8 *
SAMPLES_AND_LINES 6600 7650 *
HORIZONTAL_DATUM NAD83 *
HORIZONTAL_COORDINATE_SYSTEM UTM *
COORDINATE_ZONE 11 *
HORIZONTAL_UNITS METERS *
HORIZONTAL_RESOLUTION 1.000 *
SECONDARY_HORIZONTAL_DATUM NAD27 *
XY_ORIGIN 654990.000 3791580.000 *
SECONDARY_XY_ORIGIN 655068.683 3791385.264 *
NATION US *
STATE CA *
NW_QUAD_CORNER_XY 655387.256 3791164.117 *
NE_QUAD_CORNER_XY 661142.989 3791261.320 *
SE_QUAD_CORNER_XY 661262.079 3784329.999 *
SW_QUAD_CORNER_XY 655502.089 3784232.879 *
SECONDARY_NW_QUAD_XY 655390.779 3790968.898 *
SECONDARY_NE_QUAD_XY 661146.643 3791066.103 *
SECONDARY_SE_QUAD_XY 661265.730 3784134.980 *
SECONDARY_SW_QUAD_XY 655505.609 3784037.859 *
RMSE_XY 1.678 *
IMAGE_SOURCE "BLACK AND WHITE FILM" *
SOURCE_IMAGE_ID "NAPP 6824 20" *
SOURCE_IMAGE_DATE 1995 10 02 *
SOURCE_IMAGE_ID "NAPP 6823 82" *
SOURCE_IMAGE_DATE 1995 09 28 *
SOURCE_DEM_DATE 1983 01 01 *
AGENCY "WESTERN MAPPING CENTER (WMC)" *
PRODUCER "ANALYTICAL SURVEYS INC." *
PRODUCTION_SYSTEM "ORBIT OR_RECTIFY V.5.2" *
STANDARD_VERSION 1996 12 *
METADATA_DATE 1998 05 28 *
DATA_FILE_SIZE 50496600 *
BYTE_COUNT 6600 * * * * * * * * * * * * * * * * * * * * * * * * * * * * * * * * * * * * * *
END_USGS_HEADER *
