BEGIN_USGS_DOQ_HEADER *
QUADRANGLE_NAME "CADIZ VALLEY NE" *
QUADRANT NW *
NORTH_LATITUDE 34 15 00.000 *
WEST_LONGITUDE -115 22 30.000 *
SOUTH_LATITUDE 34 11 15.000 *
EAST_LONGITUDE -115 18 45.000 *
PRODUCTION_DATE 1998 05 28 *
RASTER_ORDER LEFT_RIGHT/TOP_BOTTOM *
BAND_ORGANIZATION "SINGLE FILE" *
BAND_CONTENT BLACK&WHITE *
BITS_PER_PIXEL 8 *
SAMPLES_AND_LINES 6600 7680 *
HORIZONTAL_DATUM NAD83 *
HORIZONTAL_COORDINATE_SYSTEM UTM *
COORDINATE_ZONE 11 *
HORIZONTAL_UNITS METERS *
HORIZONTAL_RESOLUTION 1.000 *
SECONDARY_HORIZONTAL_DATUM NAD27 *
XY_ORIGIN 649230.000 3791490.000 *
SECONDARY_XY_ORIGIN 649308.689 3791295.350 *
NATION US *
STATE CA *
NW_QUAD_CORNER_XY 649631.591 3791070.451 *
NE_QUAD_CORNER_XY 655387.256 3791164.117 *
SE_QUAD_CORNER_XY 655502.089 3784232.879 *
SW_QUAD_CORNER_XY 649742.168 3784139.295 *
SECONDARY_NW_QUAD_XY 649634.984 3790875.230 *
SECONDARY_NE_QUAD_XY 655390.779 3790968.898 *
SECONDARY_SE_QUAD_XY 655505.609 3784037.859 *
SECONDARY_SW_QUAD_XY 649745.557 3783944.272 *
RMSE_XY 1.252 *
IMAGE_SOURCE "BLACK AND WHITE FILM" *
SOURCE_IMAGE_ID "NAPP 6823 133" *
SOURCE_IMAGE_DATE 1995 09 28 *
SOURCE_DEM_DATE 1983 01 01 *
AGENCY "WESTERN MAPPING CENTER (WMC)" *
PRODUCER "ANALYTICAL SURVEYS INC." *
PRODUCTION_SYSTEM "ORBIT OR_RECTIFY V.5.2" *
STANDARD_VERSION 1996 12 *
METADATA_DATE 1998 05 28 *
DATA_FILE_SIZE 50694600 *
BYTE_COUNT 6600 * * * * * * * * * * * * * * * * * * * * * * * * * * * * * * * * * * * * * * * *
END_USGS_HEADER *
