BEGIN_USGS_DOQ_HEADER *
QUADRANGLE_NAME "CADIZ VALLEY NE" *
QUADRANT SW *
NORTH_LATITUDE 34 11 15.000 *
WEST_LONGITUDE -115 22 30.000 *
SOUTH_LATITUDE 34 07 30.000 *
EAST_LONGITUDE -115 18 45.000 *
PRODUCTION_DATE 1998 05 28 *
RASTER_ORDER LEFT_RIGHT/TOP_BOTTOM *
BAND_ORGANIZATION "SINGLE FILE" *
BAND_CONTENT BLACK&WHITE *
BITS_PER_PIXEL 8 *
SAMPLES_AND_LINES 6570 7680 *
HORIZONTAL_DATUM NAD83 *
HORIZONTAL_COORDINATE_SYSTEM UTM *
COORDINATE_ZONE 11 *
HORIZONTAL_UNITS METERS *
HORIZONTAL_RESOLUTION 1.000 *
SECONDARY_HORIZONTAL_DATUM NAD27 *
XY_ORIGIN 649350.000 3784560.000 *
SECONDARY_XY_ORIGIN 649428.720 3784365.404 *
NATION US *
STATE CA *
NW_QUAD_CORNER_XY 649742.168 3784139.295 *
NE_QUAD_CORNER_XY 655502.089 3784232.879 *
SE_QUAD_CORNER_XY 655616.737 3777301.707 *
SW_QUAD_CORNER_XY 649852.566 3777208.204 *
SECONDARY_NW_QUAD_XY 649745.557 3783944.272 *
SECONDARY_NE_QUAD_XY 655505.609 3784037.859 *
SECONDARY_SE_QUAD_XY 655620.254 3777106.885 *
SECONDARY_SW_QUAD_XY 649855.953 3777013.380 *
RMSE_XY 1.117 *
IMAGE_SOURCE "BLACK AND WHITE FILM" *
SOURCE_IMAGE_ID "NAPP 6823 135" *
SOURCE_IMAGE_DATE 1995 09 28 *
SOURCE_DEM_DATE 1983 01 01 *
AGENCY "WESTERN MAPPING CENTER (WMC)" *
PRODUCER "ANALYTICAL SURVEYS INC." *
PRODUCTION_SYSTEM "ORBIT OR_RECTIFY V.5.2" *
STANDARD_VERSION 1996 12 *
METADATA_DATE 1998 05 28 *
DATA_FILE_SIZE 50464170 *
BYTE_COUNT 6570 * * * * * * * * * * * * * * * * * * * * * * * * * * * * * * * * * * * * * * * *
END_USGS_HEADER *
