BEGIN_USGS_DOQ_HEADER *
QUADRANGLE_NAME "CADIZ VALLEY NW" 3.45 or 7.5-min. name*
QUADRANT NE quadrant indicator if cell size = 3.75-minutes*
WEST_LONGITUDE -115 26 15.000 signed deg min sec SDDD MM SS.SSS*
EAST_LONGITUDE -115 22 30.000 signed deg min sec SDDD MM SS.SSS*
NORTH_LATITUDE 34 15 0.000 signed deg min sec SDDD MM SS.SSS*
SOUTH_LATITUDE 34 11 15.000 signed deg min sec SDDD MM SS.SSS*
PRODUCTION_DATE 1997 2 22 yyyy mm dd*
RASTER_ORDER LEFT_RIGHT/TOP_BOTTOM video display order*
BAND_ORGANIZATION "SINGLE FILE" single file or BSQ, or BIL or BIP*
BAND_CONTENT BLACK&WHITE black&white or red green blue*
BITS_PER_PIXEL 8 radiometric resolution*
SAMPLES_AND_LINES 6570 7680 number of columns and rows*
HORIZONTAL_DATUM NAD83 primary horizontal datum*
HORIZONTAL_COORDINATE_SYSTEM UTM *
COORDINATE_ZONE 11 coordinate system zone number*
HORIZONTAL_UNITS METERS coordinate system units*
HORIZONTAL_RESOLUTION 1.00 pixel horiz. ground sample distance*
SECONDARY_HORIZONTAL_DATUM NAD27 secondary horizontal datum*
XY_ORIGIN 643500.000 3791400.000 coord. of upper left pixel pri. datum*
SECONDARY_XY_ORIGIN 643578.696 3791205.436 coord upper left pixel sec datum*
NATION US nation code*
STATE CA state fip code*
NW_QUAD_CORNER_XY 643875.992 3790980.323 XY coords. of pri. NW quad corner*
NE_QUAD_CORNER_XY 649631.591 3791070.451 XY coords. of pri. NE quad corner*
SE_QUAD_CORNER_XY 649742.168 3784139.295 XY coords. of pri. SE quad corner*
SW_QUAD_CORNER_XY 643982.312 3784049.245 XY coords. of pri. SW quad corner*
SECONDARY_NW_QUAD_XY 643879.254 3790785.100 XY coords. - sec. NW quad cor.*
SECONDARY_NE_QUAD_XY 649634.984 3790875.230 XY coords. - sec. NE quad cor.*
SECONDARY_SE_QUAD_XY 649745.557 3783944.272 XY coords. - sec. SE quad cor.*
SECONDARY_SW_QUAD_XY 643985.572 3783854.220 XY coords. - sec. SW quad cor.*
RMSE_XY 1.10 doq horiz. accuracy*
IMAGE_SOURCE "BLACK AND WHITE FILM" b&w, cir, natural color, other*
SOURCE_IMAGE_ID "NAPP 6823 164" source image id*
SOURCE_IMAGE_DATE 1995 9 28 source image date as yyyy mm dd*
IMAGE_SOURCE "BLACK AND WHITE FILM" b&w, cir, natural color, other*
SOURCE_IMAGE_ID "NAPP 6823 163" source image id*
SOURCE_IMAGE_DATE 1995 9 28 source image date as yyyy mm dd*
SOURCE_DEM_DATE 1997 2 22 source dem date yyyy mm dd*
AGENCY "WESTERN MAPPING CENTER (WMC)" oversight agency*
PRODUCER "Analytical Surveys" producer/contractor*
PRODUCTION_SYSTEM "ORBIT OR_RECTIFY V.5.2" production system*
STANDARD_VERSION 1996 12 version of DOQ standard*
METADATA_DATE 1997 10 27 date created or changed, yyyy mm dd*
DATA_FILE_SIZE 50464170 data set size in bytes*
BYTE_COUNT 6570 header byte count* * * * * * * * * * * * * * * * * * * * * * * * * * * * * * * * * * * * *
END_USGS_HEADER *
