BEGIN_USGS_DOQ_HEADER *
QUADRANGLE_NAME "EAST OF DALE LAKE" *
QUADRANT SE *
NORTH_LATITUDE 34 11 15.000 *
WEST_LONGITUDE -115 33 45.000 *
SOUTH_LATITUDE 34 07 30.000 *
EAST_LONGITUDE -115 30 00.000 *
PRODUCTION_DATE 1998 05 24 *
RASTER_ORDER LEFT_RIGHT/TOP_BOTTOM *
BAND_ORGANIZATION "SINGLE FILE" *
BAND_CONTENT BLACK&WHITE *
BITS_PER_PIXEL 8 *
SAMPLES_AND_LINES 6570 7650 *
HORIZONTAL_DATUM NAD83 *
HORIZONTAL_COORDINATE_SYSTEM UTM *
COORDINATE_ZONE 11 *
HORIZONTAL_UNITS METERS *
HORIZONTAL_RESOLUTION 1.000 *
SECONDARY_HORIZONTAL_DATUM NAD27 *
XY_ORIGIN 632070.000 3784290.000 *
SECONDARY_XY_ORIGIN 632148.748 3784095.606 *
NATION US *
STATE CA *
NW_QUAD_CORNER_XY 632462.790 3783879.747 *
NE_QUAD_CORNER_XY 638222.521 3783962.729 *
SE_QUAD_CORNER_XY 638324.421 3777031.792 *
SW_QUAD_CORNER_XY 632560.442 3776948.882 *
SECONDARY_NW_QUAD_XY 632465.789 3783684.718 *
SECONDARY_NE_QUAD_XY 638225.650 3783767.702 *
SECONDARY_SE_QUAD_XY 638327.547 3776836.964 *
SECONDARY_SW_QUAD_XY 632563.437 3776754.052 *
RMSE_XY 1.377 *
IMAGE_SOURCE "BLACK AND WHITE FILM" *
SOURCE_IMAGE_ID "NAPP 6824 64" *
SOURCE_IMAGE_DATE 1995 10 02 *
SOURCE_DEM_DATE 1985 01 01 *
AGENCY "WESTERN MAPPING CENTER (WMC)" *
PRODUCER "ANALYTICAL SURVEYS INC." *
PRODUCTION_SYSTEM "ORBIT OR_RECTIFY V.5.2" *
STANDARD_VERSION 1996 12 *
METADATA_DATE 1998 05 24 *
DATA_FILE_SIZE 50267070 *
BYTE_COUNT 6570 * * * * * * * * * * * * * * * * * * * * * * * * * * * * * * * * * * * * * * * *
END_USGS_HEADER *
