BEGIN_USGS_DOQ_HEADER *
QUADRANGLE_NAME "EAST OF DALE LAKE" *
QUADRANT SW *
NORTH_LATITUDE 34 11 15.000 *
WEST_LONGITUDE -115 37 30.000 *
SOUTH_LATITUDE 34 07 30.000 *
EAST_LONGITUDE -115 33 45.000 *
PRODUCTION_DATE 1998 05 24 *
RASTER_ORDER LEFT_RIGHT/TOP_BOTTOM *
BAND_ORGANIZATION "SINGLE FILE" *
BAND_CONTENT BLACK&WHITE *
BITS_PER_PIXEL 8 *
SAMPLES_AND_LINES 6570 7650 *
HORIZONTAL_DATUM NAD83 *
HORIZONTAL_COORDINATE_SYSTEM UTM *
COORDINATE_ZONE 11 *
HORIZONTAL_UNITS METERS *
HORIZONTAL_RESOLUTION 1.000 *
SECONDARY_HORIZONTAL_DATUM NAD27 *
XY_ORIGIN 626310.000 3784200.000 *
SECONDARY_XY_ORIGIN 626388.783 3784005.645 *
NATION US *
STATE CA *
NW_QUAD_CORNER_XY 626703.119 3783800.298 *
NE_QUAD_CORNER_XY 632462.790 3783879.747 *
SE_QUAD_CORNER_XY 632560.442 3776948.882 *
SW_QUAD_CORNER_XY 626796.521 3776869.502 *
SECONDARY_NW_QUAD_XY 626705.986 3783605.268 *
SECONDARY_NE_QUAD_XY 632465.789 3783684.718 *
SECONDARY_SE_QUAD_XY 632563.437 3776754.052 *
SECONDARY_SW_QUAD_XY 626799.387 3776674.670 *
RMSE_XY 2.462 *
IMAGE_SOURCE "BLACK AND WHITE FILM" *
SOURCE_IMAGE_ID "NAPP 6824 45" *
SOURCE_IMAGE_DATE 1995 10 02 *
SOURCE_DEM_DATE 1985 01 01 *
AGENCY "WESTERN MAPPING CENTER (WMC)" *
PRODUCER "ANALYTICAL SURVEYS INC." *
PRODUCTION_SYSTEM "ORBIT OR_RECTIFY V.5.2" *
STANDARD_VERSION 1996 12 *
METADATA_DATE 1998 05 24 *
DATA_FILE_SIZE 50267070 *
BYTE_COUNT 6570 * * * * * * * * * * * * * * * * * * * * * * * * * * * * * * * * * * * * * * * *
END_USGS_HEADER *
