BEGIN_USGS_DOQ_HEADER *
QUADRANGLE_NAME "DALE LAKE" *
QUADRANT NE *
NORTH_LATITUDE 34 15 00.000 *
WEST_LONGITUDE -115 41 15.000 *
SOUTH_LATITUDE 34 11 15.000 *
EAST_LONGITUDE -115 37 30.000 *
PRODUCTION_DATE 1998 05 24 *
RASTER_ORDER LEFT_RIGHT/TOP_BOTTOM *
BAND_ORGANIZATION "SINGLE FILE" *
BAND_CONTENT BLACK&WHITE *
BITS_PER_PIXEL 8 *
SAMPLES_AND_LINES 6570 7620 *
HORIZONTAL_DATUM NAD83 *
HORIZONTAL_COORDINATE_SYSTEM UTM *
COORDINATE_ZONE 11 *
HORIZONTAL_UNITS METERS *
HORIZONTAL_RESOLUTION 1.000 *
SECONDARY_HORIZONTAL_DATUM NAD27 *
XY_ORIGIN 620460.000 3791040.000 *
SECONDARY_XY_ORIGIN 620538.825 3790845.629 *
NATION US *
STATE CA *
NW_QUAD_CORNER_XY 620854.204 3790655.180 *
NE_QUAD_CORNER_XY 626609.565 3790731.161 *
SE_QUAD_CORNER_XY 626703.119 3783800.298 *
SW_QUAD_CORNER_XY 620943.503 3783724.383 *
SECONDARY_NW_QUAD_XY 620856.944 3790459.950 *
SECONDARY_NE_QUAD_XY 626612.435 3790535.933 *
SECONDARY_SE_QUAD_XY 626705.986 3783605.268 *
SECONDARY_SW_QUAD_XY 620946.240 3783529.350 *
RMSE_XY 1.913 *
IMAGE_SOURCE "BLACK AND WHITE FILM" *
SOURCE_IMAGE_ID "NAPP 6823 238" *
SOURCE_IMAGE_DATE 1995 09 28 *
SOURCE_IMAGE_ID "NAPP 6825 16" *
SOURCE_IMAGE_DATE 1995 10 03 *
SOURCE_IMAGE_ID "NAPP 6823 236" *
SOURCE_IMAGE_DATE 1995 09 28 *
SOURCE_IMAGE_ID "NAPP 6823 240" *
SOURCE_IMAGE_DATE 1995 09 28 *
SOURCE_IMAGE_ID "NAPP 6825 18" *
SOURCE_IMAGE_DATE 1995 10 03 *
SOURCE_DEM_DATE 1985 01 01 *
AGENCY "WESTERN MAPPING CENTER (WMC)" *
PRODUCER "ANALYTICAL SURVEYS INC." *
PRODUCTION_SYSTEM "ORBIT OR_RECTIFY V.5.2" *
STANDARD_VERSION 1996 12 *
METADATA_DATE 1998 05 24 *
DATA_FILE_SIZE 50069970 *
BYTE_COUNT 6570 * * * * * * * * * * * * * * * * * * * * * * * * * * * * * * * *
END_USGS_HEADER *
