BEGIN_USGS_DOQ_HEADER *
QUADRANGLE_NAME "EAST OF VALLEY MOUNTAIN" *
QUADRANT NE *
NORTH_LATITUDE 34 15 00.000 *
WEST_LONGITUDE -115 48 45.000 *
SOUTH_LATITUDE 34 11 15.000 *
EAST_LONGITUDE -115 45 00.000 *
PRODUCTION_DATE 1998 05 21 *
RASTER_ORDER LEFT_RIGHT/TOP_BOTTOM *
BAND_ORGANIZATION "SINGLE FILE" *
BAND_CONTENT BLACK&WHITE *
BITS_PER_PIXEL 8 *
SAMPLES_AND_LINES 6570 7620 *
HORIZONTAL_DATUM NAD83 *
HORIZONTAL_COORDINATE_SYSTEM UTM *
COORDINATE_ZONE 11 *
HORIZONTAL_UNITS METERS *
HORIZONTAL_RESOLUTION 1.000 *
SECONDARY_HORIZONTAL_DATUM NAD27 *
XY_ORIGIN 608940.000 3790890.000 *
SECONDARY_XY_ORIGIN 609018.880 3790695.633 *
NATION US *
STATE CA *
NW_QUAD_CORNER_XY 609343.638 3790513.825 *
NE_QUAD_CORNER_XY 615098.896 3790582.734 *
SE_QUAD_CORNER_XY 615183.940 3783652.000 *
SW_QUAD_CORNER_XY 609424.429 3783583.150 *
SECONDARY_NW_QUAD_XY 609346.117 3790318.591 *
SECONDARY_NE_QUAD_XY 615101.505 3790387.502 *
SECONDARY_SE_QUAD_XY 615186.547 3783456.966 *
SECONDARY_SW_QUAD_XY 609426.905 3783388.114 *
RMSE_XY 1.877 *
IMAGE_SOURCE "BLACK AND WHITE FILM" *
SOURCE_IMAGE_ID "NAPP 6825 51" *
SOURCE_IMAGE_DATE 1995 10 03 *
SOURCE_IMAGE_ID "NAPP 6825 49" *
SOURCE_IMAGE_DATE 1995 10 03 *
SOURCE_DEM_DATE 1984 01 01 *
AGENCY "WESTERN MAPPING CENTER (WMC)" *
PRODUCER "ANALYTICAL SURVEYS INC." *
PRODUCTION_SYSTEM "ORBIT OR_RECTIFY V.5.2" *
STANDARD_VERSION 1996 12 *
METADATA_DATE 1998 05 22 *
DATA_FILE_SIZE 50069970 *
BYTE_COUNT 6570 * * * * * * * * * * * * * * * * * * * * * * * * * * * * * * * * * * * * * *
END_USGS_HEADER *
