BEGIN_USGS_DOQ_HEADER *
QUADRANGLE_NAME "EAST OF VALLEY MOUNTAIN" *
QUADRANT NW *
NORTH_LATITUDE 34 15 00.000 *
WEST_LONGITUDE -115 52 30.000 *
SOUTH_LATITUDE 34 11 15.000 *
EAST_LONGITUDE -115 48 45.000 *
PRODUCTION_DATE 1998 05 22 *
RASTER_ORDER LEFT_RIGHT/TOP_BOTTOM *
BAND_ORGANIZATION "SINGLE FILE" *
BAND_CONTENT BLACK&WHITE *
BITS_PER_PIXEL 8 *
SAMPLES_AND_LINES 6540 7620 *
HORIZONTAL_DATUM NAD83 *
HORIZONTAL_COORDINATE_SYSTEM UTM *
COORDINATE_ZONE 11 *
HORIZONTAL_UNITS METERS *
HORIZONTAL_RESOLUTION 1.000 *
SECONDARY_HORIZONTAL_DATUM NAD27 *
XY_ORIGIN 603210.000 3790830.000 *
SECONDARY_XY_ORIGIN 603288.893 3790635.606 *
NATION US *
STATE CA *
NW_QUAD_CORNER_XY 603588.429 3790448.450 *
NE_QUAD_CORNER_XY 609343.638 3790513.825 *
SE_QUAD_CORNER_XY 609424.429 3783583.150 *
SW_QUAD_CORNER_XY 603664.966 3783517.832 *
SECONDARY_NW_QUAD_XY 603590.778 3790253.215 *
SECONDARY_NE_QUAD_XY 609346.117 3790318.591 *
SECONDARY_SE_QUAD_XY 609426.905 3783388.114 *
SECONDARY_SW_QUAD_XY 603667.312 3783322.795 *
RMSE_XY 1.178 *
IMAGE_SOURCE "BLACK AND WHITE FILM" *
SOURCE_IMAGE_ID "NAPP 6800 163" *
SOURCE_IMAGE_DATE 1994 05 21 *
SOURCE_IMAGE_ID "NAPP 6825 51" *
SOURCE_IMAGE_DATE 1995 10 03 *
SOURCE_IMAGE_ID "NAPP 6800 185" *
SOURCE_IMAGE_DATE 1994 05 21 *
SOURCE_DEM_DATE 1984 01 01 *
AGENCY "WESTERN MAPPING CENTER (WMC)" *
PRODUCER "ANALYTICAL SURVEYS INC." *
PRODUCTION_SYSTEM "ORBIT OR_RECTIFY V.5.2" *
STANDARD_VERSION 1996 12 *
METADATA_DATE 1998 05 22 *
DATA_FILE_SIZE 49841340 *
BYTE_COUNT 6540 * * * * * * * * * * * * * * * * * * * * * * * * * * * * * * * * * * *
END_USGS_HEADER *
