BEGIN_USGS_DOQ_HEADER *
QUADRANGLE_NAME "VALLEY MOUNTAIN" *
QUADRANT NE *
NORTH_LATITUDE 34 15 00.000 *
WEST_LONGITUDE -115 56 15.000 *
SOUTH_LATITUDE 34 11 15.000 *
EAST_LONGITUDE -115 52 30.000 *
PRODUCTION_DATE 1998 05 21 *
RASTER_ORDER LEFT_RIGHT/TOP_BOTTOM *
BAND_ORGANIZATION "SINGLE FILE" *
BAND_CONTENT BLACK&WHITE *
BITS_PER_PIXEL 8 *
SAMPLES_AND_LINES 6540 7620 *
HORIZONTAL_DATUM NAD83 *
HORIZONTAL_COORDINATE_SYSTEM UTM *
COORDINATE_ZONE 11 *
HORIZONTAL_UNITS METERS *
HORIZONTAL_RESOLUTION 1.000 *
SECONDARY_HORIZONTAL_DATUM NAD27 *
XY_ORIGIN 597450.000 3790770.000 *
SECONDARY_XY_ORIGIN 597528.906 3790575.579 *
NATION US *
STATE CA *
NW_QUAD_CORNER_XY 597833.265 3790386.611 *
NE_QUAD_CORNER_XY 603588.429 3790448.450 *
SE_QUAD_CORNER_XY 603664.966 3783517.832 *
SW_QUAD_CORNER_XY 597905.548 3783456.046 *
SECONDARY_NW_QUAD_XY 597835.483 3790191.375 *
SECONDARY_NE_QUAD_XY 603590.778 3790253.215 *
SECONDARY_SE_QUAD_XY 603667.312 3783322.795 *
SECONDARY_SW_QUAD_XY 597907.764 3783261.008 *
RMSE_XY 2.342 *
IMAGE_SOURCE "BLACK AND WHITE FILM" *
SOURCE_IMAGE_ID "NAPP 6825 92" *
SOURCE_IMAGE_DATE 1995 10 03 *
SOURCE_DEM_DATE 1954 01 01 *
AGENCY "WESTERN MAPPING CENTER (WMC)" *
PRODUCER "ANALYTICAL SURVEYS INC." *
PRODUCTION_SYSTEM "ORBIT OR_RECTIFY V.5.2" *
STANDARD_VERSION 1996 12 *
METADATA_DATE 1998 05 26 *
DATA_FILE_SIZE 49841340 *
BYTE_COUNT 6540 * * * * * * * * * * * * * * * * * * * * * * * * * * * * * * * * * * * * * * *
END_USGS_HEADER *
