BEGIN_USGS_DOQ_HEADER *
QUADRANGLE_NAME "VALLEY MOUNTAIN" *
QUADRANT SW *
NORTH_LATITUDE 34 11 15.000 *
WEST_LONGITUDE -116 00 00.000 *
SOUTH_LATITUDE 34 07 30.000 *
EAST_LONGITUDE -115 56 15.000 *
PRODUCTION_DATE 1998 05 21 *
RASTER_ORDER LEFT_RIGHT/TOP_BOTTOM *
BAND_ORGANIZATION "SINGLE FILE" *
BAND_CONTENT BLACK&WHITE *
BITS_PER_PIXEL 8 *
SAMPLES_AND_LINES 6540 7620 *
HORIZONTAL_DATUM NAD83 *
HORIZONTAL_COORDINATE_SYSTEM UTM *
COORDINATE_ZONE 11 *
HORIZONTAL_UNITS METERS *
HORIZONTAL_RESOLUTION 1.000 *
SECONDARY_HORIZONTAL_DATUM NAD27 *
XY_ORIGIN 591750.000 3783780.000 *
SECONDARY_XY_ORIGIN 591828.946 3783585.615 *
NATION US *
STATE CA *
NW_QUAD_CORNER_XY 592146.174 3783397.792 *
NE_QUAD_CORNER_XY 597905.548 3783456.046 *
SE_QUAD_CORNER_XY 597977.714 3776525.549 *
SW_QUAD_CORNER_XY 592214.094 3776467.346 *
SECONDARY_NW_QUAD_XY 592148.260 3783202.753 *
SECONDARY_NE_QUAD_XY 597907.764 3783261.008 *
SECONDARY_SE_QUAD_XY 597979.928 3776330.710 *
SECONDARY_SW_QUAD_XY 592216.178 3776272.505 *
RMSE_XY 1.056 *
IMAGE_SOURCE "BLACK AND WHITE FILM" *
SOURCE_IMAGE_ID "NAPP 6825 134" *
SOURCE_IMAGE_DATE 1995 10 03 *
SOURCE_DEM_DATE 1954 01 01 *
AGENCY "WESTERN MAPPING CENTER (WMC)" *
PRODUCER "ANALYTICAL SURVEYS INC." *
PRODUCTION_SYSTEM "ORBIT OR_RECTIFY V.5.2" *
STANDARD_VERSION 1996 12 *
METADATA_DATE 1998 05 22 *
DATA_FILE_SIZE 49841340 *
BYTE_COUNT 6540 * * * * * * * * * * * * * * * * * * * * * * * * * * * * * * * * * * * * * * *
END_USGS_HEADER *
