BEGIN_USGS_DOQ_HEADER *
QUADRANGLE_NAME "EAST OF MILLIGAN" 3.45 or 7.5-min. name*
QUADRANT NE quadrant indicator if cell size = 3.75-minutes*
WEST_LONGITUDE -115 3 45.000 signed deg min sec SDDD MM SS.SSS*
EAST_LONGITUDE -115 0 0.000 signed deg min sec SDDD MM SS.SSS*
NORTH_LATITUDE 34 22 30.000 signed deg min sec SDDD MM SS.SSS*
SOUTH_LATITUDE 34 18 45.000 signed deg min sec SDDD MM SS.SSS*
PRODUCTION_DATE 1997 3 6 yyyy mm dd*
RASTER_ORDER LEFT_RIGHT/TOP_BOTTOM video display order*
BAND_ORGANIZATION "SINGLE FILE" single file or BSQ, or BIL or BIP*
BAND_CONTENT BLACK&WHITE black&white or red green blue*
BITS_PER_PIXEL 8 radiometric resolution*
SAMPLES_AND_LINES 6600 7680 number of columns and rows*
HORIZONTAL_DATUM NAD83 primary horizontal datum*
HORIZONTAL_COORDINATE_SYSTEM UTM *
COORDINATE_ZONE 11 coordinate system zone number*
HORIZONTAL_UNITS METERS coordinate system units*
HORIZONTAL_RESOLUTION 1.00 pixel horiz. ground sample distance*
SECONDARY_HORIZONTAL_DATUM NAD27 secondary horizontal datum*
XY_ORIGIN 677760.000 3805860.000 coord. of upper left pixel pri. datum*
SECONDARY_XY_ORIGIN 677838.388 3805664.967 coord upper left pixel sec datum*
NATION US nation code*
STATE CA state fip code*
NW_QUAD_CORNER_XY 678146.255 3805437.531 XY coords. of pri. NW quad corner*
NE_QUAD_CORNER_XY 683893.748 3805549.079 XY coords. of pri. NE quad corner*
SE_QUAD_CORNER_XY 684030.311 3798617.267 XY coords. of pri. SE quad corner*
SW_QUAD_CORNER_XY 678278.545 3798505.814 XY coords. of pri. SW quad corner*
SECONDARY_NW_QUAD_XY 678150.309 3805241.927 XY coords. - sec. NW quad cor.*
SECONDARY_NE_QUAD_XY 683897.932 3805353.479 XY coords. - sec. NE quad cor.*
SECONDARY_SE_QUAD_XY 684034.491 3798421.863 XY coords. - sec. SE quad cor.*
SECONDARY_SW_QUAD_XY 678282.595 3798310.407 XY coords. - sec. SW quad cor.*
RMSE_XY 0.80 doq horiz. accuracy*
IMAGE_SOURCE "BLACK AND WHITE FILM" b&w, cir, natural color, other*
SOURCE_IMAGE_ID "NAPP 6823 012" source image id*
SOURCE_IMAGE_DATE 1995 9 28 source image date as yyyy mm dd*
SOURCE_DEM_DATE 1997 3 6 source dem date yyyy mm dd*
AGENCY "WESTERN MAPPING CENTER (WMC)" oversight agency*
PRODUCER "Analytical Surveys" producer/contractor*
PRODUCTION_SYSTEM "ORBIT OR_RECTIFY V.5.2" production system*
STANDARD_VERSION 1996 12 version of DOQ standard*
METADATA_DATE 1997 11 5 date created or changed, yyyy mm dd*
DATA_FILE_SIZE 50694600 data set size in bytes*
BYTE_COUNT 6600 header byte count* * * * * * * * * * * * * * * * * * * * * * * * * * * * * * * * * * * * * * * *
END_USGS_HEADER *
