BEGIN_USGS_DOQ_HEADER *
QUADRANGLE_NAME "CALUMET MOUNTAINS" *
QUADRANT NW *
NORTH_LATITUDE 34 22 30.000 *
WEST_LONGITUDE -115 37 30.000 *
SOUTH_LATITUDE 34 18 45.000 *
EAST_LONGITUDE -115 33 45.000 *
PRODUCTION_DATE 1998 05 27 *
RASTER_ORDER LEFT_RIGHT/TOP_BOTTOM *
BAND_ORGANIZATION "SINGLE FILE" *
BAND_CONTENT BLACK&WHITE *
BITS_PER_PIXEL 8 *
SAMPLES_AND_LINES 6540 7650 *
HORIZONTAL_DATUM NAD83 *
HORIZONTAL_COORDINATE_SYSTEM UTM *
COORDINATE_ZONE 11 *
HORIZONTAL_UNITS METERS *
HORIZONTAL_RESOLUTION 1.000 *
SECONDARY_HORIZONTAL_DATUM NAD27 *
XY_ORIGIN 626040.000 3804990.000 *
SECONDARY_XY_ORIGIN 626118.732 3804795.491 *
NATION US *
STATE CA *
NW_QUAD_CORNER_XY 626422.005 3804593.087 *
NE_QUAD_CORNER_XY 632168.890 3804672.741 *
SE_QUAD_CORNER_XY 632267.015 3797741.677 *
SW_QUAD_CORNER_XY 626515.860 3797662.091 *
SECONDARY_NW_QUAD_XY 626424.881 3804397.465 *
SECONDARY_NE_QUAD_XY 632171.897 3804477.120 *
SECONDARY_SE_QUAD_XY 632270.019 3797546.253 *
SECONDARY_SW_QUAD_XY 626518.733 3797466.665 *
RMSE_XY 2.318 *
IMAGE_SOURCE "BLACK AND WHITE FILM" *
SOURCE_IMAGE_ID "NAPP 6824 39" *
SOURCE_IMAGE_DATE 1995 10 02 *
SOURCE_DEM_DATE 1985 01 01 *
AGENCY "WESTERN MAPPING CENTER (WMC)" *
PRODUCER "ANALYTICAL SURVEYS INC." *
PRODUCTION_SYSTEM "ORBIT OR_RECTIFY V.5.2" *
STANDARD_VERSION 1996 12 *
METADATA_DATE 1998 05 27 *
DATA_FILE_SIZE 50037540 *
BYTE_COUNT 6540 * * * * * * * * * * * * * * * * * * * * * * * * * * * * * * * * * * * * * * *
END_USGS_HEADER *
