BEGIN_USGS_DOQ_HEADER *
QUADRANGLE_NAME "CALUMET MOUNTAINS" *
QUADRANT SE *
NORTH_LATITUDE 34 18 45.000 *
WEST_LONGITUDE -115 33 45.000 *
SOUTH_LATITUDE 34 15 00.000 *
EAST_LONGITUDE -115 30 00.000 *
PRODUCTION_DATE 1998 05 27 *
RASTER_ORDER LEFT_RIGHT/TOP_BOTTOM *
BAND_ORGANIZATION "SINGLE FILE" *
BAND_CONTENT BLACK&WHITE *
BITS_PER_PIXEL 8 *
SAMPLES_AND_LINES 6540 7650 *
HORIZONTAL_DATUM NAD83 *
HORIZONTAL_COORDINATE_SYSTEM UTM *
COORDINATE_ZONE 11 *
HORIZONTAL_UNITS METERS *
HORIZONTAL_RESOLUTION 1.000 *
SECONDARY_HORIZONTAL_DATUM NAD27 *
XY_ORIGIN 631890.000 3798150.000 *
SECONDARY_XY_ORIGIN 631968.711 3797955.512 *
NATION US *
STATE CA *
NW_QUAD_CORNER_XY 632267.015 3797741.677 *
NE_QUAD_CORNER_XY 638018.227 3797824.802 *
SE_QUAD_CORNER_XY 638120.456 3790893.733 *
SW_QUAD_CORNER_XY 632364.981 3790810.679 *
SECONDARY_NW_QUAD_XY 632270.019 3797546.253 *
SECONDARY_NE_QUAD_XY 638021.362 3797629.380 *
SECONDARY_SE_QUAD_XY 638123.588 3790698.508 *
SECONDARY_SW_QUAD_XY 632367.983 3790615.452 *
RMSE_XY 3.000 *
IMAGE_SOURCE "BLACK AND WHITE FILM" *
SOURCE_IMAGE_ID "NAPP 6824 68" *
SOURCE_IMAGE_DATE 1995 10 02 *
SOURCE_DEM_DATE 1985 01 01 *
AGENCY "WESTERN MAPPING CENTER (WMC)" *
PRODUCER "ANALYTICAL SURVEYS INC." *
PRODUCTION_SYSTEM "ORBIT OR_RECTIFY V.5.2" *
STANDARD_VERSION 1996 12 *
METADATA_DATE 1998 05 27 *
DATA_FILE_SIZE 50037540 *
BYTE_COUNT 6540 * * * * * * * * * * * * * * * * * * * * * * * * * * * * * * * * * * * * * * *
END_USGS_HEADER *
