BEGIN_USGS_DOQ_HEADER *
QUADRANGLE_NAME "CALUMET MOUNTAINS" *
QUADRANT SW *
NORTH_LATITUDE 34 18 45.000 *
WEST_LONGITUDE -115 37 30.000 *
SOUTH_LATITUDE 34 15 00.000 *
EAST_LONGITUDE -115 33 45.000 *
PRODUCTION_DATE 1998 05 27 *
RASTER_ORDER LEFT_RIGHT/TOP_BOTTOM *
BAND_ORGANIZATION "SINGLE FILE" *
BAND_CONTENT BLACK&WHITE *
BITS_PER_PIXEL 8 *
SAMPLES_AND_LINES 6540 7650 *
HORIZONTAL_DATUM NAD83 *
HORIZONTAL_COORDINATE_SYSTEM UTM *
COORDINATE_ZONE 11 *
HORIZONTAL_UNITS METERS *
HORIZONTAL_RESOLUTION 1.000 *
SECONDARY_HORIZONTAL_DATUM NAD27 *
XY_ORIGIN 626130.000 3798060.000 *
SECONDARY_XY_ORIGIN 626208.758 3797865.542 *
NATION US *
STATE CA *
NW_QUAD_CORNER_XY 626515.860 3797662.091 *
NE_QUAD_CORNER_XY 632267.015 3797741.677 *
SE_QUAD_CORNER_XY 632364.981 3790810.679 *
SW_QUAD_CORNER_XY 626609.565 3790731.161 *
SECONDARY_NW_QUAD_XY 626518.733 3797466.665 *
SECONDARY_NE_QUAD_XY 632270.019 3797546.253 *
SECONDARY_SE_QUAD_XY 632367.983 3790615.452 *
SECONDARY_SW_QUAD_XY 626612.435 3790535.933 *
RMSE_XY 2.336 *
IMAGE_SOURCE "BLACK AND WHITE FILM" *
SOURCE_IMAGE_ID "NAPP 6824 41" *
SOURCE_IMAGE_DATE 1995 10 02 *
SOURCE_DEM_DATE 1985 01 01 *
AGENCY "WESTERN MAPPING CENTER (WMC)" *
PRODUCER "ANALYTICAL SURVEYS INC." *
PRODUCTION_SYSTEM "ORBIT OR_RECTIFY V.5.2" *
STANDARD_VERSION 1996 12 *
METADATA_DATE 1998 05 27 *
DATA_FILE_SIZE 50037540 *
BYTE_COUNT 6540 * * * * * * * * * * * * * * * * * * * * * * * * * * * * * * * * * * * * * * *
END_USGS_HEADER *
