BEGIN_USGS_DOQ_HEADER *
QUADRANGLE_NAME "BRISTOL LAKE SW" *
QUADRANT NW *
NORTH_LATITUDE 34 22 30.000 *
WEST_LONGITUDE -115 45 00.000 *
SOUTH_LATITUDE 34 18 45.000 *
EAST_LONGITUDE -115 41 15.000 *
PRODUCTION_DATE 1998 05 24 *
RASTER_ORDER LEFT_RIGHT/TOP_BOTTOM *
BAND_ORGANIZATION "SINGLE FILE" *
BAND_CONTENT BLACK&WHITE *
BITS_PER_PIXEL 8 *
SAMPLES_AND_LINES 6540 7650 *
HORIZONTAL_DATUM NAD83 *
HORIZONTAL_COORDINATE_SYSTEM UTM *
COORDINATE_ZONE 11 *
HORIZONTAL_UNITS METERS *
HORIZONTAL_RESOLUTION 1.000 *
SECONDARY_HORIZONTAL_DATUM NAD27 *
XY_ORIGIN 614550.000 3804840.000 *
SECONDARY_XY_ORIGIN 614628.840 3804645.539 *
NATION US *
STATE CA *
NW_QUAD_CORNER_XY 614928.395 3804444.406 *
NE_QUAD_CORNER_XY 620675.174 3804516.975 *
SE_QUAD_CORNER_XY 620764.761 3797586.044 *
SW_QUAD_CORNER_XY 615013.714 3797513.536 *
SECONDARY_NW_QUAD_XY 614931.010 3804248.780 *
SECONDARY_NE_QUAD_XY 620677.919 3804321.351 *
SECONDARY_SE_QUAD_XY 620767.503 3797390.616 *
SECONDARY_SW_QUAD_XY 615016.326 3797318.107 *
RMSE_XY 1.127 *
IMAGE_SOURCE "BLACK AND WHITE FILM" *
SOURCE_IMAGE_ID "NAPP 6825 20" *
SOURCE_IMAGE_DATE 1995 10 03 *
SOURCE_IMAGE_ID "NAPP 6825 47" *
SOURCE_IMAGE_DATE 1995 10 03 *
SOURCE_DEM_DATE 1984 01 01 *
AGENCY "WESTERN MAPPING CENTER (WMC)" *
PRODUCER "ANALYTICAL SURVEYS INC." *
PRODUCTION_SYSTEM "ORBIT OR_RECTIFY V.5.2" *
STANDARD_VERSION 1996 12 *
METADATA_DATE 1998 05 24 *
DATA_FILE_SIZE 50037540 *
BYTE_COUNT 6540 * * * * * * * * * * * * * * * * * * * * * * * * * * * * * * * * * * * * *
END_USGS_HEADER *
