BEGIN_USGS_DOQ_HEADER *
QUADRANGLE_NAME "BRISTOL LAKE SW" *
QUADRANT SE *
NORTH_LATITUDE 34 18 45.000 *
WEST_LONGITUDE -115 41 15.000 *
SOUTH_LATITUDE 34 15 00.000 *
EAST_LONGITUDE -115 37 30.000 *
PRODUCTION_DATE 1998 05 24 *
RASTER_ORDER LEFT_RIGHT/TOP_BOTTOM *
BAND_ORGANIZATION "SINGLE FILE" *
BAND_CONTENT BLACK&WHITE *
BITS_PER_PIXEL 8 *
SAMPLES_AND_LINES 6540 7620 *
HORIZONTAL_DATUM NAD83 *
HORIZONTAL_COORDINATE_SYSTEM UTM *
COORDINATE_ZONE 11 *
HORIZONTAL_UNITS METERS *
HORIZONTAL_RESOLUTION 1.000 *
SECONDARY_HORIZONTAL_DATUM NAD27 *
XY_ORIGIN 620370.000 3797970.000 *
SECONDARY_XY_ORIGIN 620448.804 3797775.572 *
NATION US *
STATE CA *
NW_QUAD_CORNER_XY 620764.761 3797586.044 *
NE_QUAD_CORNER_XY 626515.860 3797662.091 *
SE_QUAD_CORNER_XY 626609.565 3790731.161 *
SW_QUAD_CORNER_XY 620854.204 3790655.180 *
SECONDARY_NW_QUAD_XY 620767.503 3797390.616 *
SECONDARY_NE_QUAD_XY 626518.733 3797466.665 *
SECONDARY_SE_QUAD_XY 626612.435 3790535.933 *
SECONDARY_SW_QUAD_XY 620856.944 3790459.950 *
RMSE_XY 0.958 *
IMAGE_SOURCE "BLACK AND WHITE FILM" *
SOURCE_IMAGE_ID "NAPP 6823 240" *
SOURCE_IMAGE_DATE 1995 09 28 *
SOURCE_DEM_DATE 1984 01 01 *
AGENCY "WESTERN MAPPING CENTER (WMC)" *
PRODUCER "ANALYTICAL SURVEYS INC." *
PRODUCTION_SYSTEM "ORBIT OR_RECTIFY V.5.2" *
STANDARD_VERSION 1996 12 *
METADATA_DATE 1998 05 24 *
DATA_FILE_SIZE 49841340 *
BYTE_COUNT 6540 * * * * * * * * * * * * * * * * * * * * * * * * * * * * * * * * * * * * * * *
END_USGS_HEADER *
