BEGIN_USGS_DOQ_HEADER *
QUADRANGLE_NAME "BRISTOL LAKE SW" *
QUADRANT SW *
NORTH_LATITUDE 34 18 45.000 *
WEST_LONGITUDE -115 45 00.000 *
SOUTH_LATITUDE 34 15 00.000 *
EAST_LONGITUDE -115 41 15.000 *
PRODUCTION_DATE 1998 05 29 *
RASTER_ORDER LEFT_RIGHT/TOP_BOTTOM *
BAND_ORGANIZATION "SINGLE FILE" *
BAND_CONTENT BLACK&WHITE *
BITS_PER_PIXEL 8 *
SAMPLES_AND_LINES 6570 7650 *
HORIZONTAL_DATUM NAD83 *
HORIZONTAL_COORDINATE_SYSTEM UTM *
COORDINATE_ZONE 11 *
HORIZONTAL_UNITS METERS *
HORIZONTAL_RESOLUTION 1.000 *
SECONDARY_HORIZONTAL_DATUM NAD27 *
XY_ORIGIN 614610.000 3797910.000 *
SECONDARY_XY_ORIGIN 614688.851 3797715.601 *
NATION US *
STATE CA *
NW_QUAD_CORNER_XY 615013.714 3797513.536 *
NE_QUAD_CORNER_XY 620764.761 3797586.044 *
SE_QUAD_CORNER_XY 620854.204 3790655.180 *
SW_QUAD_CORNER_XY 615098.896 3790582.734 *
SECONDARY_NW_QUAD_XY 615016.326 3797318.107 *
SECONDARY_NE_QUAD_XY 620767.503 3797390.616 *
SECONDARY_SE_QUAD_XY 620856.944 3790459.950 *
SECONDARY_SW_QUAD_XY 615101.505 3790387.502 *
RMSE_XY 1.804 *
IMAGE_SOURCE "BLACK AND WHITE FILM" *
SOURCE_IMAGE_ID "NAPP 6825 18" *
SOURCE_IMAGE_DATE 1995 10 03 *
SOURCE_IMAGE_ID "NAPP 6825 49" *
SOURCE_IMAGE_DATE 1995 10 03 *
SOURCE_IMAGE_ID "NAPP 6825 20" *
SOURCE_IMAGE_DATE 1995 10 03 *
SOURCE_IMAGE_ID "NAPP 6825 47" *
SOURCE_IMAGE_DATE 1995 10 03 *
SOURCE_DEM_DATE 1984 01 01 *
AGENCY "WESTERN MAPPING CENTER (WMC)" *
PRODUCER "ANALYTICAL SURVEYS INC." *
PRODUCTION_SYSTEM "ORBIT OR_RECTIFY V.5.2" *
STANDARD_VERSION 1996 12 *
METADATA_DATE 1998 05 29 *
DATA_FILE_SIZE 50267070 *
BYTE_COUNT 6570 * * * * * * * * * * * * * * * * * * * * * * * * * * * * * * * * * *
END_USGS_HEADER *
