BEGIN_USGS_DOQ_HEADER *
QUADRANGLE_NAME "CLEGHORN LAKES" *
QUADRANT NW *
NORTH_LATITUDE 34 22 30.000 *
WEST_LONGITUDE -115 52 30.000 *
SOUTH_LATITUDE 34 18 45.000 *
EAST_LONGITUDE -115 48 45.000 *
PRODUCTION_DATE 1998 05 20 *
RASTER_ORDER LEFT_RIGHT/TOP_BOTTOM *
BAND_ORGANIZATION "SINGLE FILE" *
BAND_CONTENT BLACK&WHITE *
BITS_PER_PIXEL 8 *
SAMPLES_AND_LINES 6540 7620 *
HORIZONTAL_DATUM NAD83 *
HORIZONTAL_COORDINATE_SYSTEM UTM *
COORDINATE_ZONE 11 *
HORIZONTAL_UNITS METERS *
HORIZONTAL_RESOLUTION 1.000 *
SECONDARY_HORIZONTAL_DATUM NAD27 *
XY_ORIGIN 603030.000 3804690.000 *
SECONDARY_XY_ORIGIN 603108.880 3804495.529 *
NATION US *
STATE CA *
NW_QUAD_CORNER_XY 603434.986 3804309.891 *
NE_QUAD_CORNER_XY 609181.667 3804375.378 *
SE_QUAD_CORNER_XY 609262.718 3797444.567 *
SW_QUAD_CORNER_XY 603511.769 3797379.137 *
SECONDARY_NW_QUAD_XY 603437.339 3804114.262 *
SECONDARY_NE_QUAD_XY 609184.151 3804179.750 *
SECONDARY_SE_QUAD_XY 609265.199 3797249.137 *
SECONDARY_SW_QUAD_XY 603514.120 3797183.704 *
RMSE_XY 3.001 *
IMAGE_SOURCE "BLACK AND WHITE FILM" *
SOURCE_IMAGE_ID "NAPP 6800 167" *
SOURCE_IMAGE_DATE 1994 05 21 *
SOURCE_DEM_DATE 1955 01 01 *
AGENCY "WESTERN MAPPING CENTER (WMC)" *
PRODUCER "ANALYTICAL SURVEYS INC." *
PRODUCTION_SYSTEM "ORBIT OR_RECTIFY V.5.2" *
STANDARD_VERSION 1996 12 *
METADATA_DATE 1998 05 28 *
DATA_FILE_SIZE 49841340 *
BYTE_COUNT 6540 * * * * * * * * * * * * * * * * * * * * * * * * * * * * * * * * * * * * * * *
END_USGS_HEADER *
