BEGIN_USGS_DOQ_HEADER *
QUADRANGLE_NAME "LEAD MOUNTAIN SW" *
QUADRANT NE *
NORTH_LATITUDE 34 22 30.000 *
WEST_LONGITUDE -115 56 15.000 *
SOUTH_LATITUDE 34 18 45.000 *
EAST_LONGITUDE -115 52 30.000 *
PRODUCTION_DATE 1998 05 28 *
RASTER_ORDER LEFT_RIGHT/TOP_BOTTOM *
BAND_ORGANIZATION "SINGLE FILE" *
BAND_CONTENT BLACK&WHITE *
BITS_PER_PIXEL 8 *
SAMPLES_AND_LINES 6540 7620 *
HORIZONTAL_DATUM NAD83 *
HORIZONTAL_COORDINATE_SYSTEM UTM *
COORDINATE_ZONE 11 *
HORIZONTAL_UNITS METERS *
HORIZONTAL_RESOLUTION 1.000 *
SECONDARY_HORIZONTAL_DATUM NAD27 *
XY_ORIGIN 597300.000 3804630.000 *
SECONDARY_XY_ORIGIN 597378.901 3804435.528 *
NATION US *
STATE CA *
NW_QUAD_CORNER_XY 597688.350 3804247.946 *
NE_QUAD_CORNER_XY 603434.986 3804309.891 *
SE_QUAD_CORNER_XY 603511.769 3797379.137 *
SW_QUAD_CORNER_XY 597760.866 3797317.244 *
SECONDARY_NW_QUAD_XY 597690.572 3804052.316 *
SECONDARY_NE_QUAD_XY 603437.339 3804114.262 *
SECONDARY_SE_QUAD_XY 603514.120 3797183.704 *
SECONDARY_SW_QUAD_XY 597763.086 3797121.811 *
RMSE_XY 2.605 *
IMAGE_SOURCE "BLACK AND WHITE FILM" *
SOURCE_IMAGE_ID "NAPP 6825 96" *
SOURCE_IMAGE_DATE 1995 10 03 *
SOURCE_IMAGE_ID "NAPP 6825 97" *
SOURCE_IMAGE_DATE 1995 10 03 *
SOURCE_DEM_DATE 1973 01 01 *
AGENCY "WESTERN MAPPING CENTER (WMC)" *
PRODUCER "ANALYTICAL SURVEYS INC." *
PRODUCTION_SYSTEM "ORBIT OR_RECTIFY V.5.2" *
STANDARD_VERSION 1996 12 *
METADATA_DATE 1998 05 28 *
DATA_FILE_SIZE 49841340 *
BYTE_COUNT 6540 * * * * * * * * * * * * * * * * * * * * * * * * * * * * * * * * * * * * *
END_USGS_HEADER *
