BEGIN_USGS_DOQ_HEADER *
QUADRANGLE_NAME "CALUMET MINE" *
QUADRANT NE *
NORTH_LATITUDE 34 30 00.000 *
WEST_LONGITUDE -115 33 45.000 *
SOUTH_LATITUDE 34 26 15.000 *
EAST_LONGITUDE -115 30 00.000 *
PRODUCTION_DATE 1998 05 27 *
RASTER_ORDER LEFT_RIGHT/TOP_BOTTOM *
BAND_ORGANIZATION "SINGLE FILE" *
BAND_CONTENT BLACK&WHITE *
BITS_PER_PIXEL 8 *
SAMPLES_AND_LINES 6540 7650 *
HORIZONTAL_DATUM NAD83 *
HORIZONTAL_COORDINATE_SYSTEM UTM *
COORDINATE_ZONE 11 *
HORIZONTAL_UNITS METERS *
HORIZONTAL_RESOLUTION 1.000 *
SECONDARY_HORIZONTAL_DATUM NAD27 *
XY_ORIGIN 631590.000 3818940.000 *
SECONDARY_XY_ORIGIN 631668.613 3818745.379 *
NATION US *
STATE CA *
NW_QUAD_CORNER_XY 631972.169 3818535.069 *
NE_QUAD_CORNER_XY 637710.553 3818618.406 *
SE_QUAD_CORNER_XY 637813.276 3811687.139 *
SW_QUAD_CORNER_XY 632070.608 3811603.872 *
SECONDARY_NW_QUAD_XY 631975.181 3818339.058 *
SECONDARY_NE_QUAD_XY 637713.697 3818422.397 *
SECONDARY_SE_QUAD_XY 637816.416 3811491.324 *
SECONDARY_SW_QUAD_XY 632073.618 3811408.055 *
RMSE_XY 0.666 *
IMAGE_SOURCE "BLACK AND WHITE FILM" *
SOURCE_IMAGE_ID "NAPP 6824 74" *
SOURCE_IMAGE_DATE 1995 10 02 *
SOURCE_DEM_DATE 1985 01 01 *
AGENCY "WESTERN MAPPING CENTER (WMC)" *
PRODUCER "ANALYTICAL SURVEYS INC." *
PRODUCTION_SYSTEM "ORBIT OR_RECTIFY V.5.2" *
STANDARD_VERSION 1996 12 *
METADATA_DATE 1998 05 27 *
DATA_FILE_SIZE 50037540 *
BYTE_COUNT 6540 * * * * * * * * * * * * * * * * * * * * * * * * * * * * * * * * * * * * * * *
END_USGS_HEADER *
