BEGIN_USGS_DOQ_HEADER *
QUADRANGLE_NAME "CALUMET MINE" *
QUADRANT NW *
NORTH_LATITUDE 34 30 00.000 *
WEST_LONGITUDE -115 37 30.000 *
SOUTH_LATITUDE 34 26 15.000 *
EAST_LONGITUDE -115 33 45.000 *
PRODUCTION_DATE 1998 05 27 *
RASTER_ORDER LEFT_RIGHT/TOP_BOTTOM *
BAND_ORGANIZATION "SINGLE FILE" *
BAND_CONTENT BLACK&WHITE *
BITS_PER_PIXEL 8 *
SAMPLES_AND_LINES 6570 7650 *
HORIZONTAL_DATUM NAD83 *
HORIZONTAL_COORDINATE_SYSTEM UTM *
COORDINATE_ZONE 11 *
HORIZONTAL_UNITS METERS *
HORIZONTAL_RESOLUTION 1.000 *
SECONDARY_HORIZONTAL_DATUM NAD27 *
XY_ORIGIN 625830.000 3818850.000 *
SECONDARY_XY_ORIGIN 625908.681 3818655.392 *
NATION US *
STATE CA *
NW_QUAD_CORNER_XY 626233.842 3818455.280 *
NE_QUAD_CORNER_XY 631972.169 3818535.069 *
SE_QUAD_CORNER_XY 632070.608 3811603.872 *
SW_QUAD_CORNER_XY 626327.998 3811524.150 *
SECONDARY_NW_QUAD_XY 626236.723 3818259.267 *
SECONDARY_NE_QUAD_XY 631975.181 3818339.058 *
SECONDARY_SE_QUAD_XY 632073.618 3811408.055 *
SECONDARY_SW_QUAD_XY 626330.877 3811328.332 *
RMSE_XY 0.760 *
IMAGE_SOURCE "BLACK AND WHITE FILM" *
SOURCE_IMAGE_ID "NAPP 6824 35" *
SOURCE_IMAGE_DATE 1995 10 02 *
SOURCE_DEM_DATE 1985 01 01 *
AGENCY "WESTERN MAPPING CENTER (WMC)" *
PRODUCER "ANALYTICAL SURVEYS INC." *
PRODUCTION_SYSTEM "ORBIT OR_RECTIFY V.5.2" *
STANDARD_VERSION 1996 12 *
METADATA_DATE 1998 05 27 *
DATA_FILE_SIZE 50267070 *
BYTE_COUNT 6570 * * * * * * * * * * * * * * * * * * * * * * * * * * * * * * * * * * * * * * * *
END_USGS_HEADER *
