BEGIN_USGS_DOQ_HEADER *
QUADRANGLE_NAME "CALUMET MINE" *
QUADRANT SE *
NORTH_LATITUDE 34 26 15.000 *
WEST_LONGITUDE -115 33 45.000 *
SOUTH_LATITUDE 34 22 30.000 *
EAST_LONGITUDE -115 30 00.000 *
PRODUCTION_DATE 1998 05 27 *
RASTER_ORDER LEFT_RIGHT/TOP_BOTTOM *
BAND_ORGANIZATION "SINGLE FILE" *
BAND_CONTENT BLACK&WHITE *
BITS_PER_PIXEL 8 *
SAMPLES_AND_LINES 6540 7650 *
HORIZONTAL_DATUM NAD83 *
HORIZONTAL_COORDINATE_SYSTEM UTM *
COORDINATE_ZONE 11 *
HORIZONTAL_UNITS METERS *
HORIZONTAL_RESOLUTION 1.000 *
SECONDARY_HORIZONTAL_DATUM NAD27 *
XY_ORIGIN 631680.000 3812010.000 *
SECONDARY_XY_ORIGIN 631758.646 3811815.423 *
NATION US *
STATE CA *
NW_QUAD_CORNER_XY 632070.608 3811603.872 *
NE_QUAD_CORNER_XY 637813.276 3811687.139 *
SE_QUAD_CORNER_XY 637915.834 3804755.937 *
SW_QUAD_CORNER_XY 632168.890 3804672.741 *
SECONDARY_NW_QUAD_XY 632073.618 3811408.055 *
SECONDARY_NE_QUAD_XY 637816.416 3811491.324 *
SECONDARY_SE_QUAD_XY 637918.971 3804560.319 *
SECONDARY_SW_QUAD_XY 632171.897 3804477.120 *
RMSE_XY 4.294 *
IMAGE_SOURCE "BLACK AND WHITE FILM" *
SOURCE_IMAGE_ID "NAPP 6824 72" *
SOURCE_IMAGE_DATE 1995 10 02 *
SOURCE_DEM_DATE 1985 01 01 *
AGENCY "WESTERN MAPPING CENTER (WMC)" *
PRODUCER "ANALYTICAL SURVEYS INC." *
PRODUCTION_SYSTEM "ORBIT OR_RECTIFY V.5.2" *
STANDARD_VERSION 1996 12 *
METADATA_DATE 1998 05 27 *
DATA_FILE_SIZE 50037540 *
BYTE_COUNT 6540 * * * * * * * * * * * * * * * * * * * * * * * * * * * * * * * * * * * * * * *
END_USGS_HEADER *
