BEGIN_USGS_DOQ_HEADER *
QUADRANGLE_NAME "BRISTOL LAKE NW" *
QUADRANT NE *
NORTH_LATITUDE 34 30 00.000 *
WEST_LONGITUDE -115 41 15.000 *
SOUTH_LATITUDE 34 26 15.000 *
EAST_LONGITUDE -115 37 30.000 *
PRODUCTION_DATE 1998 05 27 *
RASTER_ORDER LEFT_RIGHT/TOP_BOTTOM *
BAND_ORGANIZATION "SINGLE FILE" *
BAND_CONTENT BLACK&WHITE *
BITS_PER_PIXEL 8 *
SAMPLES_AND_LINES 6540 7620 *
HORIZONTAL_DATUM NAD83 *
HORIZONTAL_COORDINATE_SYSTEM UTM *
COORDINATE_ZONE 11 *
HORIZONTAL_UNITS METERS *
HORIZONTAL_RESOLUTION 1.000 *
SECONDARY_HORIZONTAL_DATUM NAD27 *
XY_ORIGIN 620100.000 3818760.000 *
SECONDARY_XY_ORIGIN 620178.749 3818565.404 *
NATION US *
STATE CA *
NW_QUAD_CORNER_XY 620495.568 3818379.040 *
NE_QUAD_CORNER_XY 626233.842 3818455.280 *
SE_QUAD_CORNER_XY 626327.998 3811524.150 *
SW_QUAD_CORNER_XY 620585.443 3811447.974 *
SECONDARY_NW_QUAD_XY 620498.319 3818183.025 *
SECONDARY_NE_QUAD_XY 626236.723 3818259.267 *
SECONDARY_SE_QUAD_XY 626330.877 3811328.332 *
SECONDARY_SW_QUAD_XY 620588.191 3811252.154 *
RMSE_XY 1.046 *
IMAGE_SOURCE "BLACK AND WHITE FILM" *
SOURCE_IMAGE_ID "NAPP 6823 246" *
SOURCE_IMAGE_DATE 1995 09 28 *
SOURCE_DEM_DATE 1984 01 01 *
AGENCY "WESTERN MAPPING CENTER (WMC)" *
PRODUCER "ANALYTICAL SURVEYS INC." *
PRODUCTION_SYSTEM "ORBIT OR_RECTIFY V.5.2" *
STANDARD_VERSION 1996 12 *
METADATA_DATE 1998 05 27 *
DATA_FILE_SIZE 49841340 *
BYTE_COUNT 6540 * * * * * * * * * * * * * * * * * * * * * * * * * * * * * * * * * * * * * * *
END_USGS_HEADER *
