BEGIN_USGS_DOQ_HEADER *
QUADRANGLE_NAME "BRISTOL LAKE NW" *
QUADRANT NW *
NORTH_LATITUDE 34 30 00.000 *
WEST_LONGITUDE -115 45 00.000 *
SOUTH_LATITUDE 34 26 15.000 *
EAST_LONGITUDE -115 41 15.000 *
PRODUCTION_DATE 1998 05 27 *
RASTER_ORDER LEFT_RIGHT/TOP_BOTTOM *
BAND_ORGANIZATION "SINGLE FILE" *
BAND_CONTENT BLACK&WHITE *
BITS_PER_PIXEL 8 *
SAMPLES_AND_LINES 6540 7650 *
HORIZONTAL_DATUM NAD83 *
HORIZONTAL_COORDINATE_SYSTEM UTM *
COORDINATE_ZONE 11 *
HORIZONTAL_UNITS METERS *
HORIZONTAL_RESOLUTION 1.000 *
SECONDARY_HORIZONTAL_DATUM NAD27 *
XY_ORIGIN 614370.000 3818700.000 *
SECONDARY_XY_ORIGIN 614448.817 3818505.417 *
NATION US *
STATE CA *
NW_QUAD_CORNER_XY 614757.347 3818306.347 *
NE_QUAD_CORNER_XY 620495.568 3818379.040 *
SE_QUAD_CORNER_XY 620585.443 3811447.974 *
SW_QUAD_CORNER_XY 614842.940 3811375.343 *
SECONDARY_NW_QUAD_XY 614759.966 3818110.331 *
SECONDARY_NE_QUAD_XY 620498.319 3818183.025 *
SECONDARY_SE_QUAD_XY 620588.191 3811252.154 *
SECONDARY_SW_QUAD_XY 614845.556 3811179.521 *
RMSE_XY 0.755 *
IMAGE_SOURCE "BLACK AND WHITE FILM" *
SOURCE_IMAGE_ID "NAPP 6825 24" *
SOURCE_IMAGE_DATE 1995 10 03 *
SOURCE_DEM_DATE 1984 01 01 *
AGENCY "WESTERN MAPPING CENTER (WMC)" *
PRODUCER "ANALYTICAL SURVEYS INC." *
PRODUCTION_SYSTEM "ORBIT OR_RECTIFY V.5.2" *
STANDARD_VERSION 1996 12 *
METADATA_DATE 1998 05 27 *
DATA_FILE_SIZE 50037540 *
BYTE_COUNT 6540 * * * * * * * * * * * * * * * * * * * * * * * * * * * * * * * * * * * * * * *
END_USGS_HEADER *
