BEGIN_USGS_DOQ_HEADER *
QUADRANGLE_NAME "BRISTOL LAKE NW" *
QUADRANT SE *
NORTH_LATITUDE 34 26 15.000 *
WEST_LONGITUDE -115 41 15.000 *
SOUTH_LATITUDE 34 22 30.000 *
EAST_LONGITUDE -115 37 30.000 *
PRODUCTION_DATE 1998 05 27 *
RASTER_ORDER LEFT_RIGHT/TOP_BOTTOM *
BAND_ORGANIZATION "SINGLE FILE" *
BAND_CONTENT BLACK&WHITE *
BITS_PER_PIXEL 8 *
SAMPLES_AND_LINES 6540 7620 *
HORIZONTAL_DATUM NAD83 *
HORIZONTAL_COORDINATE_SYSTEM UTM *
COORDINATE_ZONE 11 *
HORIZONTAL_UNITS METERS *
HORIZONTAL_RESOLUTION 1.000 *
SECONDARY_HORIZONTAL_DATUM NAD27 *
XY_ORIGIN 620190.000 3811830.000 *
SECONDARY_XY_ORIGIN 620268.768 3811635.459 *
NATION US *
STATE CA *
NW_QUAD_CORNER_XY 620585.443 3811447.974 *
NE_QUAD_CORNER_XY 626327.998 3811524.150 *
SE_QUAD_CORNER_XY 626422.005 3804593.087 *
SW_QUAD_CORNER_XY 620675.174 3804516.975 *
SECONDARY_NW_QUAD_XY 620588.191 3811252.154 *
SECONDARY_NE_QUAD_XY 626330.877 3811328.332 *
SECONDARY_SE_QUAD_XY 626424.881 3804397.465 *
SECONDARY_SW_QUAD_XY 620677.919 3804321.351 *
RMSE_XY 0.673 *
IMAGE_SOURCE "BLACK AND WHITE FILM" *
SOURCE_IMAGE_ID "NAPP 6823 244" *
SOURCE_IMAGE_DATE 1995 09 28 *
SOURCE_DEM_DATE 1984 01 01 *
AGENCY "WESTERN MAPPING CENTER (WMC)" *
PRODUCER "ANALYTICAL SURVEYS INC." *
PRODUCTION_SYSTEM "ORBIT OR_RECTIFY V.5.2" *
STANDARD_VERSION 1996 12 *
METADATA_DATE 1998 05 27 *
DATA_FILE_SIZE 49841340 *
BYTE_COUNT 6540 * * * * * * * * * * * * * * * * * * * * * * * * * * * * * * * * * * * * * * *
END_USGS_HEADER *
