BEGIN_USGS_DOQ_HEADER *
QUADRANGLE_NAME "LEAD MOUNTAIN NE" *
QUADRANT NE *
NORTH_LATITUDE 34 30 00.000 *
WEST_LONGITUDE -115 48 45.000 *
SOUTH_LATITUDE 34 26 15.000 *
EAST_LONGITUDE -115 45 00.000 *
PRODUCTION_DATE 1998 05 19 *
RASTER_ORDER LEFT_RIGHT/TOP_BOTTOM *
BAND_ORGANIZATION "SINGLE FILE" *
BAND_CONTENT BLACK&WHITE *
BITS_PER_PIXEL 8 *
SAMPLES_AND_LINES 6510 7620 *
HORIZONTAL_DATUM NAD83 *
HORIZONTAL_COORDINATE_SYSTEM UTM *
COORDINATE_ZONE 11 *
HORIZONTAL_UNITS METERS *
HORIZONTAL_RESOLUTION 1.000 *
SECONDARY_HORIZONTAL_DATUM NAD27 *
XY_ORIGIN 608640.000 3818610.000 *
SECONDARY_XY_ORIGIN 608718.843 3818415.435 *
NATION US *
STATE CA *
NW_QUAD_CORNER_XY 609019.175 3818237.202 *
NE_QUAD_CORNER_XY 614757.347 3818306.347 *
SE_QUAD_CORNER_XY 614842.940 3811375.343 *
SW_QUAD_CORNER_XY 609100.486 3811306.256 *
SECONDARY_NW_QUAD_XY 609021.663 3818041.184 *
SECONDARY_NE_QUAD_XY 614759.966 3818110.331 *
SECONDARY_SE_QUAD_XY 614845.556 3811179.521 *
SECONDARY_SW_QUAD_XY 609102.972 3811110.433 *
RMSE_XY 1.346 *
IMAGE_SOURCE "BLACK AND WHITE FILM" *
SOURCE_IMAGE_ID "NAPP 6825 43" *
SOURCE_IMAGE_DATE 1995 10 03 *
SOURCE_DEM_DATE 1973 01 01 *
AGENCY "WESTERN MAPPING CENTER (WMC)" *
PRODUCER "ANALYTICAL SURVEYS INC." *
PRODUCTION_SYSTEM "ORBIT OR_RECTIFY V.5.2" *
STANDARD_VERSION 1996 12 *
METADATA_DATE 1998 05 19 *
DATA_FILE_SIZE 49612710 *
BYTE_COUNT 6510 * * * * * * * * * * * * * * * * * * * * * * * * * * * * * * * * * * * * * * *
END_USGS_HEADER *
