BEGIN_USGS_DOQ_HEADER *
QUADRANGLE_NAME "LEAD MOUNTAIN NE" *
QUADRANT SW *
NORTH_LATITUDE 34 26 15.000 *
WEST_LONGITUDE -115 52 30.000 *
SOUTH_LATITUDE 34 22 30.000 *
EAST_LONGITUDE -115 48 45.000 *
PRODUCTION_DATE 1998 05 19 *
RASTER_ORDER LEFT_RIGHT/TOP_BOTTOM *
BAND_ORGANIZATION "SINGLE FILE" *
BAND_CONTENT BLACK&WHITE *
BITS_PER_PIXEL 8 *
SAMPLES_AND_LINES 6540 7620 *
HORIZONTAL_DATUM NAD83 *
HORIZONTAL_COORDINATE_SYSTEM UTM *
COORDINATE_ZONE 11 *
HORIZONTAL_UNITS METERS *
HORIZONTAL_RESOLUTION 1.000 *
SECONDARY_HORIZONTAL_DATUM NAD27 *
XY_ORIGIN 602970.000 3811620.000 *
SECONDARY_XY_ORIGIN 603048.876 3811425.493 *
NATION US *
STATE CA *
NW_QUAD_CORNER_XY 603358.079 3811240.714 *
NE_QUAD_CORNER_XY 609100.486 3811306.256 *
SE_QUAD_CORNER_XY 609181.667 3804375.378 *
SW_QUAD_CORNER_XY 603434.986 3804309.891 *
SECONDARY_NW_QUAD_XY 603360.435 3811044.889 *
SECONDARY_NE_QUAD_XY 609102.972 3811110.433 *
SECONDARY_SE_QUAD_XY 609184.151 3804179.750 *
SECONDARY_SW_QUAD_XY 603437.339 3804114.262 *
RMSE_XY 3.141 *
IMAGE_SOURCE "BLACK AND WHITE FILM" *
SOURCE_IMAGE_ID "NAPP 6800 169" *
SOURCE_IMAGE_DATE 1994 05 21 *
SOURCE_DEM_DATE 1973 01 01 *
AGENCY "WESTERN MAPPING CENTER (WMC)" *
PRODUCER "ANALYTICAL SURVEYS INC." *
PRODUCTION_SYSTEM "ORBIT OR_RECTIFY V.5.2" *
STANDARD_VERSION 1996 12 *
METADATA_DATE 1998 05 19 *
DATA_FILE_SIZE 49841340 *
BYTE_COUNT 6540 * * * * * * * * * * * * * * * * * * * * * * * * * * * * * * * * * * * * * * *
END_USGS_HEADER *
