BEGIN_USGS_DOQ_HEADER *
QUADRANGLE_NAME "LEAD MOUNTAIN" *
QUADRANT NW *
NORTH_LATITUDE 34 30 00.000 *
WEST_LONGITUDE -116 00 00.000 *
SOUTH_LATITUDE 34 26 15.000 *
EAST_LONGITUDE -115 56 15.000 *
PRODUCTION_DATE 1998 05 19 *
RASTER_ORDER LEFT_RIGHT/TOP_BOTTOM *
BAND_ORGANIZATION "SINGLE FILE" *
BAND_CONTENT BLACK&WHITE *
BITS_PER_PIXEL 8 *
SAMPLES_AND_LINES 6510 7620 *
HORIZONTAL_DATUM NAD83 *
HORIZONTAL_COORDINATE_SYSTEM UTM *
COORDINATE_ZONE 11 *
HORIZONTAL_UNITS METERS *
HORIZONTAL_RESOLUTION 1.000 *
SECONDARY_HORIZONTAL_DATUM NAD27 *
XY_ORIGIN 591420.000 3818430.000 *
SECONDARY_XY_ORIGIN 591498.926 3818235.505 *
NATION US *
STATE CA *
NW_QUAD_CORNER_XY 591804.930 3818051.052 *
NE_QUAD_CORNER_XY 597542.969 3818109.555 *
SE_QUAD_CORNER_XY 597615.718 3811178.716 *
SW_QUAD_CORNER_XY 591873.398 3811120.262 *
SECONDARY_NW_QUAD_XY 591807.025 3817855.029 *
SECONDARY_NE_QUAD_XY 597545.195 3817913.534 *
SECONDARY_SE_QUAD_XY 597617.942 3810982.890 *
SECONDARY_SW_QUAD_XY 591875.491 3810924.435 *
RMSE_XY 1.990 *
IMAGE_SOURCE "BLACK AND WHITE FILM" *
SOURCE_IMAGE_ID "NAPP 6825 124" *
SOURCE_IMAGE_DATE 1995 10 03 *
SOURCE_DEM_DATE 1952 01 01 *
AGENCY "WESTERN MAPPING CENTER (WMC)" *
PRODUCER "ANALYTICAL SURVEYS INC." *
PRODUCTION_SYSTEM "ORBIT OR_RECTIFY V.5.2" *
STANDARD_VERSION 1996 12 *
METADATA_DATE 1998 05 19 *
DATA_FILE_SIZE 49612710 *
BYTE_COUNT 6510 * * * * * * * * * * * * * * * * * * * * * * * * * * * * * * * * * * * * * * *
END_USGS_HEADER *
