BEGIN_USGS_DOQ_HEADER *
QUADRANGLE_NAME "PAINTED ROCK WASH" 3.45 or 7.5-min. name*
QUADRANT SE quadrant indicator if cell size = 3.75-minutes*
WEST_LONGITUDE -115 3 45.000 signed deg min sec SDDD MM SS.SSS*
EAST_LONGITUDE -115 0 0.000 signed deg min sec SDDD MM SS.SSS*
NORTH_LATITUDE 34 33 45.000 signed deg min sec SDDD MM SS.SSS*
SOUTH_LATITUDE 34 30 0.000 signed deg min sec SDDD MM SS.SSS*
PRODUCTION_DATE 1997 3 13 yyyy mm dd*
RASTER_ORDER LEFT_RIGHT/TOP_BOTTOM video display order*
BAND_ORGANIZATION "SINGLE FILE" single file or BSQ, or BIL or BIP*
BAND_CONTENT BLACK&WHITE black&white or red green blue*
BITS_PER_PIXEL 8 radiometric resolution*
SAMPLES_AND_LINES 6570 7650 number of columns and rows*
HORIZONTAL_DATUM NAD83 primary horizontal datum*
HORIZONTAL_COORDINATE_SYSTEM UTM *
COORDINATE_ZONE 11 coordinate system zone number*
HORIZONTAL_UNITS METERS coordinate system units*
HORIZONTAL_RESOLUTION 1.00 pixel horiz. ground sample distance*
SECONDARY_HORIZONTAL_DATUM NAD27 secondary horizontal datum*
XY_ORIGIN 677370.000 3826650.000 coord. of upper left pixel pri. datum*
SECONDARY_XY_ORIGIN 677448.093 3826454.780 coord upper left pixel sec datum*
NATION US nation code*
STATE CA state fip code*
NW_QUAD_CORNER_XY 677748.112 3826233.058 XY coords. of pri. NW quad corner*
NE_QUAD_CORNER_XY 683482.746 3826344.890 XY coords. of pri. NE quad corner*
SE_QUAD_CORNER_XY 683619.966 3819412.890 XY coords. of pri. SE quad corner*
SW_QUAD_CORNER_XY 677881.039 3819301.153 XY coords. of pri. SW quad corner*
SECONDARY_NW_QUAD_XY 677752.177 3826036.871 XY coords. - sec. NW quad cor.*
SECONDARY_NE_QUAD_XY 683486.941 3826148.704 XY coords. - sec. NE quad cor.*
SECONDARY_SE_QUAD_XY 683624.157 3819216.899 XY coords. - sec. SE quad cor.*
SECONDARY_SW_QUAD_XY 677885.099 3819105.159 XY coords. - sec. SW quad cor.*
RMSE_XY 0.60 doq horiz. accuracy*
IMAGE_SOURCE "BLACK AND WHITE FILM" b&w, cir, natural color, other*
SOURCE_IMAGE_ID "NAPP 6823 018" source image id*
SOURCE_IMAGE_DATE 1995 9 28 source image date as yyyy mm dd*
IMAGE_SOURCE "BLACK AND WHITE FILM" b&w, cir, natural color, other*
SOURCE_IMAGE_ID "NAPP 6823 057" source image id*
SOURCE_IMAGE_DATE 1995 9 28 source image date as yyyy mm dd*
SOURCE_DEM_DATE 1997 3 13 source dem date yyyy mm dd*
AGENCY "WESTERN MAPPING CENTER (WMC)" oversight agency*
PRODUCER "Analytical Surveys" producer/contractor*
PRODUCTION_SYSTEM "ORBIT OR_RECTIFY V.5.2" production system*
STANDARD_VERSION 1996 12 version of DOQ standard*
METADATA_DATE 1997 10 29 date created or changed, yyyy mm dd*
DATA_FILE_SIZE 50267070 data set size in bytes*
BYTE_COUNT 6570 header byte count* * * * * * * * * * * * * * * * * * * * * * * * * * * * * * * * * * * * *
END_USGS_HEADER *
