BEGIN_USGS_DOQ_HEADER *
QUADRANGLE_NAME "CADIZ SUMMIT" 3.45 or 7.5-min. name*
QUADRANT NE quadrant indicator if cell size = 3.75-minutes*
WEST_LONGITUDE -115 26 15.000 signed deg min sec SDDD MM SS.SSS*
EAST_LONGITUDE -115 22 30.000 signed deg min sec SDDD MM SS.SSS*
NORTH_LATITUDE 34 37 30.000 signed deg min sec SDDD MM SS.SSS*
SOUTH_LATITUDE 34 33 45.000 signed deg min sec SDDD MM SS.SSS*
PRODUCTION_DATE 1997 3 11 yyyy mm dd*
RASTER_ORDER LEFT_RIGHT/TOP_BOTTOM video display order*
BAND_ORGANIZATION "SINGLE FILE" single file or BSQ, or BIL or BIP*
BAND_CONTENT BLACK&WHITE black&white or red green blue*
BITS_PER_PIXEL 8 radiometric resolution*
SAMPLES_AND_LINES 6540 7650 number of columns and rows*
HORIZONTAL_DATUM NAD83 primary horizontal datum*
HORIZONTAL_COORDINATE_SYSTEM UTM *
COORDINATE_ZONE 11 coordinate system zone number*
HORIZONTAL_UNITS METERS coordinate system units*
HORIZONTAL_RESOLUTION 1.00 pixel horiz. ground sample distance*
SECONDARY_HORIZONTAL_DATUM NAD27 secondary horizontal datum*
XY_ORIGIN 642840.000 3832980.000 coord. of upper left pixel pri. datum*
SECONDARY_XY_ORIGIN 642918.412 3832785.092 coord upper left pixel sec datum*
NATION US nation code*
STATE CA state fip code*
NW_QUAD_CORNER_XY 643234.473 3832568.171 XY coords. of pri. NW quad corner*
NE_QUAD_CORNER_XY 648964.390 3832658.757 XY coords. of pri. NE quad corner*
SE_QUAD_CORNER_XY 649076.035 3825727.210 XY coords. of pri. SE quad corner*
SW_QUAD_CORNER_XY 643341.820 3825636.699 XY coords. of pri. SW quad corner*
SECONDARY_NW_QUAD_XY 643237.753 3832371.776 XY coords. - sec. NW quad cor.*
SECONDARY_NE_QUAD_XY 648967.802 3832462.365 XY coords. - sec. NE quad cor.*
SECONDARY_SE_QUAD_XY 649079.443 3825531.010 XY coords. - sec. SE quad cor.*
SECONDARY_SW_QUAD_XY 643345.098 3825440.497 XY coords. - sec. SW quad cor.*
RMSE_XY 0.80 doq horiz. accuracy*
IMAGE_SOURCE "BLACK AND WHITE FILM" b&w, cir, natural color, other*
SOURCE_IMAGE_ID "NAPP 6823 176" source image id*
SOURCE_IMAGE_DATE 1995 9 28 source image date as yyyy mm dd*
SOURCE_DEM_DATE 1997 3 11 source dem date yyyy mm dd*
AGENCY "WESTERN MAPPING CENTER (WMC)" oversight agency*
PRODUCER "Analytical Surveys" producer/contractor*
PRODUCTION_SYSTEM "ORBIT OR_RECTIFY V.5.2" production system*
STANDARD_VERSION 1996 12 version of DOQ standard*
METADATA_DATE 1997 10 29 date created or changed, yyyy mm dd*
DATA_FILE_SIZE 50037540 data set size in bytes*
BYTE_COUNT 6540 header byte count* * * * * * * * * * * * * * * * * * * * * * * * * * * * * * * * * * * * * * *
END_USGS_HEADER *
