BEGIN_USGS_DOQ_HEADER *
QUADRANGLE_NAME "AMBOY" 3.45 or 7.5-min. name*
QUADRANT SE quadrant indicator if cell size = 3.75-minutes*
WEST_LONGITUDE -115 41 15.000 signed deg min sec SDDD MM SS.SSS*
EAST_LONGITUDE -115 37 30.000 signed deg min sec SDDD MM SS.SSS*
NORTH_LATITUDE 34 33 45.000 signed deg min sec SDDD MM SS.SSS*
SOUTH_LATITUDE 34 30 0.000 signed deg min sec SDDD MM SS.SSS*
PRODUCTION_DATE 1997 2 28 yyyy mm dd*
RASTER_ORDER LEFT_RIGHT/TOP_BOTTOM video display order*
BAND_ORGANIZATION "SINGLE FILE" single file or BSQ, or BIL or BIP*
BAND_CONTENT BLACK&WHITE black&white or red green blue*
BITS_PER_PIXEL 8 radiometric resolution*
SAMPLES_AND_LINES 6540 7620 number of columns and rows*
HORIZONTAL_DATUM NAD83 primary horizontal datum*
HORIZONTAL_COORDINATE_SYSTEM UTM *
COORDINATE_ZONE 11 coordinate system zone number*
HORIZONTAL_UNITS METERS coordinate system units*
HORIZONTAL_RESOLUTION 1.00 pixel horiz. ground sample distance*
SECONDARY_HORIZONTAL_DATUM NAD27 secondary horizontal datum*
XY_ORIGIN 620010.000 3825690.000 coord. of upper left pixel pri. datum*
SECONDARY_XY_ORIGIN 620088.719 3825495.349 coord upper left pixel sec datum*
NATION US nation code*
STATE CA state fip code*
NW_QUAD_CORNER_XY 620405.550 3825310.173 XY coords. of pri. NW quad corner*
NE_QUAD_CORNER_XY 626139.534 3825386.477 XY coords. of pri. NE quad corner*
SE_QUAD_CORNER_XY 626233.842 3818455.280 XY coords. of pri. SE quad corner*
SW_QUAD_CORNER_XY 620495.568 3818379.040 XY coords. of pri. SW quad corner*
SECONDARY_NW_QUAD_XY 620408.303 3825113.964 XY coords. - sec. NW quad cor.*
SECONDARY_NE_QUAD_XY 626142.418 3825190.270 XY coords. - sec. NE quad cor.*
SECONDARY_SE_QUAD_XY 626236.723 3818259.267 XY coords. - sec. SE quad cor.*
SECONDARY_SW_QUAD_XY 620498.319 3818183.025 XY coords. - sec. SW quad cor.*
RMSE_XY 1.40 doq horiz. accuracy*
IMAGE_SOURCE "BLACK AND WHITE FILM" b&w, cir, natural color, other*
SOURCE_IMAGE_ID "NAPP 6823 248" source image id*
SOURCE_IMAGE_DATE 1995 9 28 source image date as yyyy mm dd*
SOURCE_DEM_DATE 1997 2 28 source dem date yyyy mm dd*
AGENCY "WESTERN MAPPING CENTER (WMC)" oversight agency*
PRODUCER "Analytical Surveys" producer/contractor*
PRODUCTION_SYSTEM "ORBIT OR_RECTIFY V.5.2" production system*
STANDARD_VERSION 1996 12 version of DOQ standard*
METADATA_DATE 1997 11 3 date created or changed, yyyy mm dd*
DATA_FILE_SIZE 49841340 data set size in bytes*
BYTE_COUNT 6540 header byte count* * * * * * * * * * * * * * * * * * * * * * * * * * * * * * * * * * * * * * *
END_USGS_HEADER *
